SJava 0.78.0 Martin Morgan
| Snapshot Date: 2011-10-20 07:20:33 -0700 (Thu, 20 Oct 2011) | | URL: https://hedgehog.fhcrc.org/bioconductor/branches/RELEASE_2_8/madman/Rpacks/SJava | | Last Changed Rev: 54800 / Revision: 59457 | | Last Changed Date: 2011-04-13 15:27:35 -0700 (Wed, 13 Apr 2011) |
| lamb1 | Linux (openSUSE 11.3) / x86_64 | [ OK ] | OK | |
| liverpool | Windows Server 2003 R2 (32-bit) / x64 | N O T S U P P O R T E D |
| gewurz | Windows Server 2008 R2 Enterprise SP1 (64-bit) / x64 | N O T S U P P O R T E D |
| pelham | Mac OS X Leopard (10.5.8) / i386 | N O T S U P P O R T E D |