| GeneRegionScan 1.7.1 Lasse Folkersen
 
 | Snapshot Date: 2011-03-17 11:16:30 -0700 (Thu, 17 Mar 2011) |  | URL: https://hedgehog.fhcrc.org/bioconductor/trunk/madman/Rpacks/GeneRegionScan |  | Last Changed Rev: 50725 / Revision: 53825 |  | Last Changed Date: 2010-11-06 14:29:12 -0700 (Sat, 06 Nov 2010) | 
 | lamb1 | Linux (openSUSE 11.3) / x86_64 | OK | OK |  | 
| liverpool | Windows Server 2003 R2 (32-bit) / x64 | OK | OK | OK | 
| gewurz | Windows Server 2008 R2 Enterprise (64-bit) / x64 | OK | OK | OK | 
| pelham | Mac OS X Leopard (10.5.8) / i386 | OK | OK | OK | 
| petty | Mac OS X Snow Leopard (10.6.6) / i386 | OK | OK | [ OK ] | 
>>>>>>> 
>>>>>>> INSTALLATION WITH 'R CMD INSTALL --preclean --library=GeneRegionScan.buildbin-libdir GeneRegionScan_1.7.1.tar.gz'
>>>>>>> 
* installing *source* package 'GeneRegionScan' ...
** R
** data
** exec
** inst
** preparing package for lazy loading
Welcome to Bioconductor
  Vignettes contain introductory material. To view, type
  'browseVignettes()'. To cite Bioconductor, see
  'citation("Biobase")' and for packages 'citation("pkgname")'.
Loading required package: IRanges
Attaching package: 'IRanges'
The following object(s) are masked from 'package:Biobase':
    updateObject
The following object(s) are masked from 'package:base':
    Map, cbind, eval, intersect, mapply, order, paste, pmax, pmax.int,
    pmin, pmin.int, rbind, rep.int, setdiff, table, union
** help
*** installing help indices
** building package indices ...
** testing if installed package can be loaded
* DONE (GeneRegionScan)