| Clonality 0.99.1 Irina Ostrovnaya
 
 | Snapshot Date: 2011-03-17 11:16:30 -0700 (Thu, 17 Mar 2011) |  | URL: https://hedgehog.fhcrc.org/bioconductor/trunk/madman/Rpacks/Clonality |  | Last Changed Rev: 52051 / Revision: 53825 |  | Last Changed Date: 2011-01-24 11:29:29 -0800 (Mon, 24 Jan 2011) | 
 | lamb1 | Linux (openSUSE 11.3) / x86_64 | OK | OK |  | 
| liverpool | Windows Server 2003 R2 (32-bit) / x64 | OK | OK | OK | 
| gewurz | Windows Server 2008 R2 Enterprise (64-bit) / x64 | OK | OK | OK | 
| pelham | Mac OS X Leopard (10.5.8) / i386 | OK | OK | OK | 
| petty | Mac OS X Snow Leopard (10.6.6) / i386 | OK | OK | [ OK ] | 
>>>>>>> 
>>>>>>> INSTALLATION WITH 'R CMD INSTALL --preclean --library=Clonality.buildbin-libdir Clonality_0.99.1.tar.gz'
>>>>>>> 
* installing *source* package 'Clonality' ...
** R
** inst
** preparing package for lazy loading
**************************************************************************
   The plan to change the data format for CNA object has been postponed   
 in order to ensure backward compatibility with older versions of DNAcopy 
**************************************************************************
** help
*** installing help indices
** building package indices ...
** testing if installed package can be loaded
* DONE (Clonality)