| Back to the "Multiple platform build/check report" | A B C D E F G H I J K L M N O P Q R [S] T U V W X Y Z |
| Package 402/444 | Hostname | OS / Arch | BUILD | CHECK | BUILD BIN | ||||
| snm 0.99.0 Brig Mecham
| lamb1 | Linux (openSUSE 11.3) / x86_64 | OK | OK | |||||
| liverpool | Windows Server 2003 R2 (32-bit) / x64 | OK | OK | OK | |||||
| gewurz | Windows Server 2008 R2 Enterprise (64-bit) / x64 | OK | OK | OK | |||||
| pelham | Mac OS X Leopard (10.5.8) / i386 | OK | OK | OK | |||||
| petty | Mac OS X Snow Leopard (10.6.6) / i386 | OK | OK | [ OK ] |
| Package: snm |
| Version: 0.99.0 |
| Command: /Users/biocbuild/BBS/utils/build-universal.sh snm_0.99.0.tar.gz /Library/Frameworks/R.framework/Versions/2.13/Resources/bin/R snm.buildbin-libdir |
| StartedAt: 2011-03-17 18:09:57 -0700 (Thu, 17 Mar 2011) |
| EndedAt: 2011-03-17 18:10:04 -0700 (Thu, 17 Mar 2011) |
| EllapsedTime: 6.3 seconds |
| RetCode: 0 |
| Status: OK |
| PackageFile: snm_0.99.0.tgz |
| PackageFileSize: 657.7 KiB |
>>>>>>> >>>>>>> INSTALLATION WITH 'R CMD INSTALL --preclean --library=snm.buildbin-libdir snm_0.99.0.tar.gz' >>>>>>> * installing *source* package 'snm' ... ** R ** inst ** help *** installing help indices ** building package indices ... ** testing if installed package can be loaded * DONE (snm)