| Back to the "Multiple platform build/check report" | A B C D E F G H I J K L M N O [P] Q R S T U V W X Y Z |
| Package 344/467 | Hostname | OS / Arch | BUILD | CHECK | BUILD BIN | ||||
| plier 1.22.0 Crispin Miller
| lamb1 | Linux (openSUSE 11.3) / x86_64 | OK | OK | |||||
| liverpool | Windows Server 2003 R2 (32-bit) / x64 | OK | OK | OK | |||||
| gewurz | Windows Server 2008 R2 Enterprise SP1 (64-bit) / x64 | [ OK ] | OK | OK | |||||
| pelham | Mac OS X Leopard (10.5.8) / i386 | OK | OK | OK |
| Package: plier |
| Version: 1.22.0 |
| Command: chmod a+r plier -R && D:\biocbld\bbs-2.8-bioc\R\bin\R.exe CMD build --keep-empty-dirs --no-resave-data plier |
| StartedAt: 2011-10-20 10:20:07 -0700 (Thu, 20 Oct 2011) |
| EndedAt: 2011-10-20 10:20:09 -0700 (Thu, 20 Oct 2011) |
| EllapsedTime: 1.7 seconds |
| RetCode: 0 |
| Status: OK |
| PackageFile: plier_1.22.0.tar.gz |
| PackageFileSize: 20.47 KiB |
* checking for file 'plier/DESCRIPTION' ... OK * preparing 'plier': * checking DESCRIPTION meta-information ... OK * cleaning src * checking for LF line-endings in source and make files * checking for empty or unneeded directories * building 'plier_1.22.0.tar.gz'