| lamb1 | 
Linux (openSUSE 11.3) / x86_64  |  |  |  | 
| liverpool | 
Windows Server 2003 R2 (32-bit) / x64  |  |  |  | 
| gewurz | 
Windows Server 2008 R2 Enterprise SP1 (64-bit) / x64  |  |  |  | 
| [pelham] | 
Mac OS X Leopard (10.5.8) / i386  |  |  |  | 
 | 
 | 
| A [A] B  C  D  E  F  G  H  I  J  K  L  M  N  O  P  Q  R  S  T  U  V  W  X  Y  Z  | 
| a4 1.1.2 | Tobias Verbeke |  OK  |  WARNINGS  |  OK  | 
| a4Base 1.0.1 | Tobias Verbeke |  OK  |  WARNINGS  |  OK  | 
| a4Classif 1.1.3 | Tobias Verbeke |  OK  |  WARNINGS  |  OK  | 
| a4Core 1.1.3 | Tobias Verbeke |  OK  |  WARNINGS  |  OK  | 
| a4Preproc 1.0.1 | Tobias Verbeke |  OK  |  OK  |  OK  | 
| a4Reporting 1.1.1 | Tobias Verbeke |  OK  |  OK  |  OK  | 
| ABarray 1.20.0 | Yongming Andrew Sun |  OK  |  OK  |  OK  | 
| aCGH 1.30.0 | Peter Dimitrov |  OK  |  OK  |  OK  | 
| ACME 2.8.0 | Sean Davis |  OK  |  OK  |  OK  | 
| ADaCGH2 1.2.0 | Ramon Diaz-Uriarte |  OK  |  WARNINGS  |  OK  | 
| adSplit 1.22.0 | Claudio Lottaz |  OK  |  OK  |  OK  | 
| affxparser 1.24.0 | Kasper Daniel Hansen |  OK  |  OK  |  OK  | 
| affy 1.30.0 | Rafael A. Irizarry |  OK  |  OK  |  OK  | 
| affycomp 1.28.3 | Rafael A. Irizarry |  OK  |  OK  |  OK  | 
| AffyCompatible 1.12.0 | Martin Morgan |  OK  |  OK  |  OK  | 
| affyContam 1.10.0 | V. Carey |  OK  |  OK  |  OK  | 
| affycoretools 1.24.0 | James W. MacDonald |  OK  |  OK  |  OK  | 
| AffyExpress 1.18.0 | Xuejun Arthur Li |  OK  |  OK  |  OK  | 
| affyILM 1.4.0 | Myriam Kroll and Fabrice Berger |  OK  |  OK  |  OK  | 
| affyio 1.20.0 | Benjamin Milo Bolstad |  OK  |  OK  |  OK  | 
| affylmGUI 1.26.0 | Keith Satterley |  OK  |  OK  |  OK  | 
| affyPara 1.12.0 | Markus Schmidberger |  OK  |  OK  |  OK  | 
| affypdnn 1.26.0 | Laurent Gautier |  OK  |  OK  |  OK  | 
| affyPLM 1.28.5 | Ben Bolstad |  OK  |  OK  |  OK  | 
| affyQCReport 1.30.0 | Craig Parman |  OK  |  OK  |  OK  | 
| AffyTiling 1.10.0 | Charles G. Danko |  OK  |  OK  |  OK  | 
| Agi4x44PreProcess 1.12.0 | Pedro Lopez-Romero |  OK  |  OK  |  OK  | 
| AgiMicroRna 2.2.0 | Pedro Lopez-Romero |  OK  |  OK  |  OK  | 
| altcdfenvs 2.14.0 | Laurent Gautier |  OK  |  OK  |  OK  | 
| annaffy 1.24.0 | Colin A. Smith |  OK  |  OK  |  OK  | 
| annotate 1.30.1 | Biocore Team c/o BioC user list |  OK  |  OK  |  OK  | 
| AnnotationDbi 1.14.1 | Biocore Team c/o BioC user list |  OK  |  OK  |  OK  | 
| AnnotationFuncs 1.0.1 | Stefan McKinnon Edwards |  OK  |  OK  |  OK  | 
| annotationTools 1.26.0 | Alexandre Kuhn |  OK  |  OK  |  OK  | 
| anota 1.0.0 | Ola Larsson |  OK  |  OK  |  OK  | 
| apComplex 2.18.0 | Denise Scholtens |  OK  |  OK  |  OK  | 
| aroma.light 1.20.0 | Henrik Bengtsson |  OK  |  WARNINGS  |  OK  | 
| ArrayExpress 1.12.1 | Audrey Kauffmann |  ERROR  |  skipped  |  skipped  | 
| ArrayExpressHTS 1.2.0 | Angela Goncalves , Andrew Tikhonov |  OK  |  WARNINGS  |  OK  | 
| arrayMvout 1.10.0 | V. Carey |  OK  |  OK  |  OK  | 
| arrayQuality 1.30.0 | Agnes Paquet |  OK  |  OK  |  OK  | 
| arrayQualityMetrics 3.8.0 | Audrey Kauffmann |  OK  |  OK  |  OK  | 
| ArrayTools 1.12.0 | Arthur Li |  OK  |  OK  |  OK  | 
| attract 1.4.0 | Jessica Mar |  OK  |  OK  |  OK  | 
 | 
| B  A [B] C  D  E  F  G  H  I  J  K  L  M  N  O  P  Q  R  S  T  U  V  W  X  Y  Z  | 
| BAC 1.12.0 | Raphael Gottardo |  OK  |  OK  |  OK  | 
| BayesPeak 1.4.3 | Jonathan Cairns |  OK  |  OK  |  OK  | 
| baySeq 1.6.0 | Thomas J. Hardcastle |  OK  |  OK  |  OK  | 
| BCRANK 1.14.0 | Adam Ameur |  OK  |  OK  |  OK  | 
| beadarray 2.2.0 | Mark Dunning |  OK  |  OK  |  OK  | 
| beadarraySNP 1.18.0 | Jan Oosting |  OK  |  OK  |  OK  | 
| BeadDataPackR 1.4.0 | Mike Smith |  OK  |  OK  |  OK  | 
| betr 1.8.0 | Martin Aryee |  OK  |  OK  |  OK  | 
| bgafun 1.14.0 | Iain Wallace |  OK  |  OK  |  OK  | 
| BGmix 1.12.0 | Alex Lewin |  OK  |  OK  |  OK  | 
| bgx 1.16.0 | Ernest Turro |  OK  |  OK  |  OK  | 
| BHC 1.4.0 | Rich Savage |  OK  |  OK  |  OK  | 
| BicARE 1.10.0 | Pierre Gestraud |  OK  |  OK  |  OK  | 
| Biobase 2.12.2 | Biocore Team c/o BioC user list |  OK  |  WARNINGS  |  OK  | 
| BiocCaseStudies 1.14.0 | Biocore Team c/o BioC user list |  OK  |  OK  |  OK  | 
| biocGraph 1.14.0 | Florian Hahne |  OK  |  OK  |  OK  | 
| biocViews 1.20.3 | Biocore Team c/o BioC user list |  OK  |  WARNINGS  |  OK  | 
| bioDist 1.24.1 | Biocore Team c/o BioC user list |  OK  |  OK  |  OK  | 
| biomaRt 2.8.1 | Steffen Durinck |  OK  |  OK  |  OK  | 
| BioMVCClass 1.20.0 | Elizabeth Whalen |  OK  |  OK  |  OK  | 
| BioNet 1.10.1 | Marcus Dittrich |  OK  |  OK  |  OK  | 
| BioSeqClass 1.10.0 | Li Hong |  OK  |  OK  |  OK  | 
| Biostrings 2.20.4 | H. Pages |  OK  |  WARNINGS  |  OK  | 
| bridge 1.16.0 | Raphael Gottardo |  OK  |  OK  |  OK  | 
| BSgenome 1.20.1 | H. Pages |  OK  |  OK  |  OK  | 
| BufferedMatrix 1.16.0 | Benjamin Milo Bolstad |  OK  |  OK  |  OK  | 
| BufferedMatrixMethods 1.16.0 | B. M. Bolstad |  OK  |  OK  |  OK  | 
| BUS 1.8.0 | Yuanhua Liu |  OK  |  OK  |  OK  | 
 | 
| C  A  B [C] D  E  F  G  H  I  J  K  L  M  N  O  P  Q  R  S  T  U  V  W  X  Y  Z  | 
| CALIB 1.18.0 | Hui Zhao |  OK  |  OK  |  OK  | 
| CAMERA 1.8.2 | Carsten Kuhl |  OK  |  OK  |  OK  | 
| Category 2.18.0 | Biocore Team c/o BioC user list |  OK  |  OK  |  OK  | 
| cellHTS 1.22.0 | Ligia Bras |  OK  |  OK  |  OK  | 
| cellHTS2 2.16.0 | Florian Hahne |  OK  |  OK  |  OK  | 
| CGEN 1.4.0 | William Wheeler |  OK  |  OK  |  OK  | 
| CGHbase 1.10.0 | Sjoerd Vosse |  OK  |  OK  |  OK  | 
| CGHcall 2.12.0 | Mark van de Wiel |  OK  |  OK  |  OK  | 
| cghMCR 1.10.0 | J. Zhang |  OK  |  OK  |  OK  | 
| CGHnormaliter 1.6.0 | Bart P.P. van Houte |  OK  |  OK  |  OK  | 
| CGHregions 1.10.0 | Sjoerd Vosse |  OK  |  OK  |  OK  | 
| charm 1.4.0 | Martin Aryee |  OK  |  WARNINGS  |  OK  | 
| ChemmineR 2.4.4 | ChemmineR Team |  OK  |  OK  |  OK  | 
| ChIPpeakAnno 1.9.0 | Lihua Julie Zhu |  OK  |  WARNINGS  |  OK  | 
| chipseq 1.2.0 | Biocore Team c/o BioC user list |  OK  |  WARNINGS  |  OK  | 
| ChIPseqR 1.6.0 | Peter Humburg |  OK  |  OK  |  OK  | 
| ChIPsim 1.6.0 | Peter Humburg |  OK  |  OK  |  OK  | 
| chopsticks 1.16.0 | Hin-Tak Leung |  OK  |  OK  |  OK  | 
| ChromHeatMap 1.6.0 | Tim F. Rayner |  OK  |  OK  |  OK  | 
| clippda 1.2.0 | Stephen Nyangoma |  OK  |  OK  |  OK  | 
| Clonality 1.0.0 | Irina Ostrovnaya |  OK  |  OK  |  OK  | 
| clst 1.0.0 | Noah Hoffman |  OK  |  OK  |  OK  | 
| clstutils 1.0.0 | Noah Hoffman |  OK  |  OK  |  OK  | 
| clusterProfiler 1.0.6 | Guangchuang Yu |  OK  |  OK  |  OK  | 
| clusterStab 1.24.0 | James W. MacDonald |  OK  |  OK  |  OK  | 
| CMA 1.10.0 | Christoph Bernau |  OK  |  OK  |  OK  | 
| cn.farms 1.0.12 | Andreas Mitterecker |  OK  |  WARNINGS  |  OK  | 
| CNTools 1.8.0 | J. Zhang |  OK  |  WARNINGS  |  OK  | 
| CNVtools 1.46.0 | Chris Barnes |  OK  |  OK  |  OK  | 
| CoCiteStats 1.24.0 | Biocore Team c/o BioC user list |  OK  |  OK  |  OK  | 
| codelink 1.20.0 | Diego Diez |  OK  |  OK  |  OK  | 
| CoGAPS 1.2.1 | Elana J. Fertig , Michael F. Ochs | N O T   S U P P O R T E D | 
| ConsensusClusterPlus 1.5.1 | Matt Wilkerson |  OK  |  OK  |  OK  | 
| convert 1.28.0 | Yee Hwa (Jean) Yang |  OK  |  OK  |  OK  | 
| copa 1.20.0 | James W. MacDonald |  OK  |  OK  |  OK  | 
| coRNAi 1.2.0 | Elin Axelsson |  OK  |  OK  |  OK  | 
| CORREP 1.18.0 | Dongxiao Zhu |  OK  |  OK  |  OK  | 
| cosmo 1.18.0 | Oliver Bembom |  OK  |  OK  |  OK  | 
| cosmoGUI 1.18.0 | Oliver Bembom |  OK  |  OK  |  OK  | 
| CRImage 1.2.0 | Henrik Failmezger , Yinyin Yuan | N O T   S U P P O R T E D | 
| crlmm 1.10.0 | Benilton S Carvalho , Robert Scharpf , Matt Ritchie |  OK  |  WARNINGS  |  OK  | 
| CSAR 1.4.0 | Jose M Muino |  OK  |  OK  |  OK  | 
| ctc 1.26.0 | Antoine Lucas |  OK  |  OK  |  OK  | 
| cycle 1.6.0 | Matthias Futschik |  OK  |  OK  |  OK  | 
 | 
| D  A  B  C [D] E  F  G  H  I  J  K  L  M  N  O  P  Q  R  S  T  U  V  W  X  Y  Z  | 
| daMA 1.24.0 | Jobst Landgrebe |  OK  |  OK  |  OK  | 
| DAVIDQuery 1.12.0 | Roger Day |  OK  |  OK  |  OK  | 
| ddCt 1.6.0 | Jitao David Zhang |  OK  |  OK  |  OK  | 
| DEDS 1.26.0 | Yuanyuan Xiao |  OK  |  OK  |  OK  | 
| DEGraph 1.4.0 | Laurent Jacob |  OK  |  OK  |  OK  | 
| DEGseq 1.6.2 | Likun Wang |  OK  |  OK  |  OK  | 
| DESeq 1.4.1 | Simon Anders |  OK  |  OK  |  OK  | 
| DFP 1.10.0 | Rodrigo Alvarez-Glez |  OK  |  OK  |  OK  | 
| diffGeneAnalysis 1.34.0 | Choudary Jagarlamudi |  OK  |  OK  |  OK  | 
| DNAcopy 1.26.0 | Venkatraman E. Seshan |  OK  |  OK  |  OK  | 
| domainsignatures 1.12.0 | Florian Hahne |  OK  |  OK  |  OK  | 
| dualKS 1.12.0 | Eric J. Kort |  OK  |  OK  |  OK  | 
| dyebias 1.10.0 | Philip Lijnzaad |  OK  |  OK  |  OK  | 
| DynDoc 1.30.0 | Biocore Team c/o BioC user list |  OK  |  OK  |  OK  | 
 | 
| E  A  B  C  D [E] F  G  H  I  J  K  L  M  N  O  P  Q  R  S  T  U  V  W  X  Y  Z  | 
| EBarrays 2.16.0 | Ming Yuan |  OK  |  OK  |  OK  | 
| EBImage 3.8.0 | Gregoire Pau | N O T   S U P P O R T E D | 
| ecolitk 1.24.0 | Laurent Gautier |  OK  |  WARNINGS  |  OK  | 
| edd 1.30.0 | Vince Carey |  OK  |  OK  |  OK  | 
| edgeR 2.2.6 | Mark Robinson , Davis McCarthy , Gordon Smyth |  OK  |  OK  |  OK  | 
| eisa 1.4.1 | Gabor Csardi |  OK  |  OK  |  OK  | 
| ENVISIONQuery 1.0.0 | Alex Lisovich , Roger Day | N O T   S U P P O R T E D | 
| ExiMiR 1.0.0 | Sylvain Gubian |  OK  |  OK  |  OK  | 
| explorase 1.16.2 | Michael Lawrence |  OK  |  OK  |  OK  | 
| ExpressionView 1.4.0 | Gabor Csardi |  OK  |  OK  |  OK  | 
| externalVector 1.18.0 | Biocore Team c/o BioC user list |  OK  |  OK  |  OK  | 
 | 
| F  A  B  C  D  E [F] G  H  I  J  K  L  M  N  O  P  Q  R  S  T  U  V  W  X  Y  Z  | 
| fabia 1.4.0 | Sepp Hochreiter |  OK  |  OK  |  OK  | 
| factDesign 1.28.0 | Denise Scholtens |  OK  |  OK  |  OK  | 
| farms 1.4.0 | Djork-Arne Clevert |  OK  |  OK  |  OK  | 
| fdrame 1.24.0 | Effi Kenigsberg |  OK  |  OK  |  OK  | 
| flagme 1.8.0 | Mark Robinson |  OK  |  OK  |  OK  | 
| flowClust 2.10.0 | Raphael Gottardo |  OK  |  WARNINGS  |  OK  | 
| flowCore 1.18.0 | F. Hahne |  OK  |  OK  |  OK  | 
| flowFlowJo 1.10.0 | John J. Gosink |  OK  |  OK  |  OK  | 
| flowFP 1.8.0 | Herb Holyst |  OK  |  OK  |  OK  | 
| flowMeans 1.4.0 | Nima Aghaeepour |  OK  |  OK  |  OK  | 
| flowMerge 2.0.3 | Greg Finak |  OK  |  OK  |  OK  | 
| flowPhyto 1.4.0 | David M. Schruth |  OK  |  OK  |  OK  | 
| flowPlots 1.0.0 | N. Hawkins |  OK  |  OK  |  OK  | 
| flowQ 1.12.0 | F. Hahne |  TIMEOUT  |  skipped  |  skipped  | 
| flowStats 1.10.1 | Florian Hahne  and Chao-Jen Wong |  OK  |  OK  |  OK  | 
| flowTrans 1.4.0 | Greg Finak |  OK  |  OK  |  OK  | 
| flowUtils 1.12.0 | Nishant Gopalakrishnan |  OK  |  OK  |  OK  | 
| flowViz 1.16.0 | Florian Hahne |  OK  |  OK  |  OK  | 
| frma 1.4.0 | Matthew N. McCall |  OK  |  WARNINGS  |  OK  | 
| frmaTools 1.4.0 | Matthew N. McCall |  OK  |  OK  |  OK  | 
 | 
| G  A  B  C  D  E  F [G] H  I  J  K  L  M  N  O  P  Q  R  S  T  U  V  W  X  Y  Z  | 
| gaga 1.12.0 | David Rossell |  OK  |  WARNINGS  |  OK  | 
| gage 2.2.0 | Weijun Luo |  OK  |  OK  |  OK  | 
| gaggle 1.20.0 | Christopher Bare |  OK  |  OK  |  OK  | 
| gaia 1.7.0 | S. Morganella |  OK  |  OK  |  OK  | 
| gcrma 2.24.1 | Z. Wu |  OK  |  OK  |  OK  | 
| genArise 1.28.0 | IFC Development Team |  OK  |  OK  |  OK  | 
| gene2pathway 2.2.0 | Holger Froehlich |  OK  |  OK  |  OK  | 
| GeneAnswers 1.8.0 | Gang Feng  , Pan Du  and Tian Xia |  OK  |  OK  |  OK  | 
| genefilter 1.34.0 | Biocore Team c/o BioC user list |  OK  |  OK  |  OK  | 
| genefu 1.2.1 | Benjamin Haibe-Kains , Markus Schroeder |  OK  |  OK  |  OK  | 
| GeneGA 1.2.0 | Zhenpeng Li |  OK  |  OK  |  OK  | 
| GeneMeta 1.24.0 | Biocore Team c/o BioC user list |  OK  |  OK  |  OK  | 
| geneplotter 1.30.0 | Biocore Team c/o BioC user list |  OK  |  OK  |  OK  | 
| GeneR 2.22.0 | Y. d'Aubenton-Carafa |  OK  |  OK  |  OK  | 
| geneRecommender 1.24.0 | Greg Hather |  OK  |  OK  |  OK  | 
| GeneRegionScan 1.8.0 | Lasse Folkersen |  OK  |  OK  |  OK  | 
| GeneRfold 1.10.0 | Antoine Lucas |  OK  |  OK  |  OK  | 
| GeneSelectMMD 1.8.0 | Weiliang Qiu |  OK  |  OK  |  OK  | 
| GeneSelector 2.2.0 | Martin Slawski |  OK  |  OK  |  OK  | 
| GeneSpring 2.26.0 | Thon de Boer |  OK  |  WARNINGS  |  OK  | 
| GeneticsDesign 1.20.0 | The R Genetics Project |  OK  |  OK  |  OK  | 
| GeneticsPed 1.14.0 | David Henderson |  OK  |  OK  |  OK  | 
| GeneTraffic 1.24.0 | Daniel Iordan |  OK  |  WARNINGS  |  OK  | 
| genoCN 1.4.0 | Wei Sun |  OK  |  OK  |  OK  | 
| GenomeGraphs 1.12.0 | Steffen Durinck |  OK  |  OK  |  OK  | 
| genomeIntervals 1.8.0 | Julien Gagneur |  OK  |  OK  |  OK  | 
| genomes 1.8.1 | Chris Stubben |  OK  |  OK  |  OK  | 
| GenomicFeatures 1.4.5 | Biocore Team c/o BioC user list |  OK  |  OK  |  OK  | 
| GenomicRanges 1.4.8 | Biocore Team c/o BioC user list |  OK  |  OK  |  OK  | 
| Genominator 1.6.0 | James Bullard |  OK  |  OK  |  OK  | 
| genoset 1.0.0 | Peter M. Haverty |  OK  |  OK  |  OK  | 
| GEOmetadb 1.12.0 | Jack Zhu |  OK  |  OK  |  OK  | 
| GEOquery 2.19.4 | Sean Davis |  OK  |  OK  |  OK  | 
| GEOsubmission 1.4.0 | Alexandre Kuhn |  OK  |  OK  |  OK  | 
| GGBase 3.12.0 | Vince Carey |  OK  |  OK  |  OK  | 
| GGtools 3.10.2 | Vince Carey |  OK  |  WARNINGS  |  OK  | 
| girafe 1.4.0 | J. Toedling |  OK  |  OK  |  OK  | 
| GLAD 2.14.0 | Philippe Hupe |  OK  |  OK  |  OK  | 
| GlobalAncova 3.20.0 | Manuela Hummel |  OK  |  OK  |  OK  | 
| globaltest 5.6.1 | Jelle Goeman |  OK  |  OK  |  OK  | 
| goProfiles 1.14.0 | Alex Sanchez |  OK  |  OK  |  OK  | 
| GOSemSim 1.10.2 | Guangchuang Yu |  ERROR  |  skipped  |  skipped  | 
| goseq 1.4.0 | Matthew Young |  OK  |  OK  |  OK  | 
| GOstats 2.18.0 | Biocore Team c/o BioC user list |  OK  |  OK  |  OK  | 
| goTools 1.26.0 | Agnes Paquet |  OK  |  OK  |  OK  | 
| gpls 1.24.0 | Biocore Team c/o BioC user list |  OK  |  OK  |  OK  | 
| graph 1.30.0 | Seth Falcon |  OK  |  OK  |  OK  | 
| GraphAlignment 1.14.0 | Joern P. Meier |  OK  |  OK  |  OK  | 
| GraphAT 1.24.0 | Thomas LaFramboise |  OK  |  OK  |  OK  | 
| GSEABase 1.14.0 | Biocore Team c/o BioC user list |  OK  |  OK  |  OK  | 
| GSEAlm 1.12.0 | Assaf Oron |  OK  |  OK  |  OK  | 
| GSRI 2.0.0 | Julian Gehring |  OK  |  WARNINGS  |  OK  | 
| GSVA 1.0.1 | Justin Guinney |  OK  |  OK  |  ERROR  | 
 | 
| H  A  B  C  D  E  F  G [H] I  J  K  L  M  N  O  P  Q  R  S  T  U  V  W  X  Y  Z  | 
| Harshlight 1.24.0 | Maurizio Pellegrino |  OK  |  OK  |  OK  | 
| Heatplus 1.22.0 | Alexander Ploner |  OK  |  OK  |  OK  | 
| HELP 1.10.0 | Reid F. Thompson |  OK  |  OK  |  OK  | 
| HEM 1.24.0 | HyungJun Cho |  OK  |  OK  |  OK  | 
| hexbin 1.26.0 | Nicholas Lewin-Koh |  OK  |  OK  |  OK  | 
| HilbertVis 1.10.0 | Simon Anders | N O T   S U P P O R T E D | 
| HilbertVisGUI 1.10.0 | Simon Anders |  OK  |  OK  |  OK  | 
| hopach 2.12.0 | Katherine S. Pollard |  OK  |  OK  |  OK  | 
| HTqPCR 1.6.0 | Heidi Dvinge |  ERROR  |  skipped  |  skipped  | 
| HTSanalyzeR 2.5.1 | Xin Wang |  OK  |  OK  |  OK  | 
| hyperdraw 1.4.0 | Paul Murrell |  OK  |  OK  |  OK  | 
| hypergraph 1.24.0 | Biocore Team c/o BioC user list |  OK  |  OK  |  OK  | 
 | 
| I  A  B  C  D  E  F  G  H [I] J  K  L  M  N  O  P  Q  R  S  T  U  V  W  X  Y  Z  | 
| ibh 1.0.0 | Kircicegi Korkmaz |  OK  |  OK  |  OK  | 
| Icens 1.24.0 | Biocore Team c/o BioC user list |  OK  |  OK  |  OK  | 
| iChip 1.6.0 | Qianxing Mo |  OK  |  OK  |  OK  | 
| idiogram 1.28.0 | Karl J. Dykema |  OK  |  OK  |  OK  | 
| iFlow 2.4.0 | Kyongryun Lee |  OK  |  WARNINGS  |  OK  | 
| imageHTS 1.2.0 | Gregoire Pau | N O T   S U P P O R T E D | 
| impute 1.26.0 | Balasubramanian Narasimhan |  OK  |  OK  |  OK  | 
| inveRsion 1.0.0 | Alejandro Caceres |  OK  |  OK  |  OK  | 
| IPPD 1.0.0 | Martin Slawski |  OK  |  OK  |  OK  | 
| IRanges 1.10.6 | Biocore Team c/o BioC user list |  OK  |  OK  |  OK  | 
| iSeq 1.4.0 | Qianxing Mo |  OK  |  OK  |  OK  | 
| IsoGeneGUI 1.4.2 | Setia Pramana |  OK  |  WARNINGS  |  OK  | 
| ITALICS 2.12.0 | Guillem Rigaill |  OK  |  WARNINGS  |  OK  | 
| iterativeBMA 1.10.0 | Ka Yee Yeung |  OK  |  OK  |  OK  | 
| iterativeBMAsurv 1.10.0 | Ka Yee Yeung |  OK  |  OK  |  OK  | 
 | 
| J  A  B  C  D  E  F  G  H  I [J] K  L  M  N  O  P  Q  R  S  T  U  V  W  X  Y  Z  | 
| joda 1.0.0 | Ewa Szczurek |  OK  |  OK  |  OK  | 
 | 
| K  A  B  C  D  E  F  G  H  I  J [K] L  M  N  O  P  Q  R  S  T  U  V  W  X  Y  Z  | 
| KCsmart 2.10.0 | Jorma de Ronde |  OK  |  OK  |  OK  | 
| KEGGgraph 1.8.0 | Jitao David Zhang |  OK  |  ERROR  |  OK  | 
| keggorthology 2.4.0 | VJ Carey |  OK  |  OK  |  OK  | 
| KEGGSOAP 1.26.1 | Biocore Team c/o BioC user list |  OK  |  OK  |  OK  | 
 | 
| L  A  B  C  D  E  F  G  H  I  J  K [L] M  N  O  P  Q  R  S  T  U  V  W  X  Y  Z  | 
| lapmix 1.18.0 | Yann Ruffieux |  OK  |  OK  |  OK  | 
| LBE 1.20.0 | Cyril Dalmasso |  OK  |  OK  |  OK  | 
| les 1.2.0 | Julian Gehring |  OK  |  WARNINGS  |  OK  | 
| limma 3.8.3 | Gordon Smyth |  OK  |  OK  |  OK  | 
| limmaGUI 1.28.0 | Keith Satterley |  OK  |  OK  |  OK  | 
| LiquidAssociation 1.6.0 | Yen-Yi Ho |  OK  |  OK  |  OK  | 
| LMGene 2.8.0 | Blythe Durbin-Johnson |  OK  |  OK  |  OK  | 
| logicFS 1.22.0 | Holger Schwender |  OK  |  OK  |  OK  | 
| logitT 1.10.0 | Tobias Guennel |  OK  |  OK  |  OK  | 
| lol 1.0.1 | Yinyin Yuan |  OK  |  OK  |  OK  | 
| LPE 1.26.0 | Nitin Jain |  OK  |  OK  |  OK  | 
| LPEadj 1.12.0 | Carl Murie |  OK  |  OK  |  OK  | 
| lumi 2.4.0 | Pan Du |  OK  |  OK  |  OK  | 
| LVSmiRNA 1.2.0 | Stefano Calza |  OK  |  OK  |  OK  | 
 | 
| M  A  B  C  D  E  F  G  H  I  J  K  L [M] N  O  P  Q  R  S  T  U  V  W  X  Y  Z  | 
| maanova 1.22.0 | Keith Sheppard |  OK  |  OK  |  OK  | 
| macat 1.26.0 | Joern Toedling |  OK  |  WARNINGS  |  OK  | 
| maCorrPlot 1.22.0 | Alexander Ploner |  OK  |  OK  |  OK  | 
| maDB 1.24.0 | Johannes Rainer |  OK  |  OK  |  OK  | 
| made4 1.26.0 | Aedin Culhane |  OK  |  OK  |  OK  | 
| maigesPack 1.16.0 | Gustavo H. Esteves |  OK  |  ERROR  |  OK  | 
| makecdfenv 1.30.0 | James W. MacDonald |  OK  |  OK  |  OK  | 
| makePlatformDesign 1.16.0 | Benilton Carvalho |  OK  |  WARNINGS  |  OK  | 
| MANOR 1.24.0 | Pierre Neuvial |  OK  |  OK  |  OK  | 
| MantelCorr 1.22.0 | Brian Steinmeyer |  OK  |  OK  |  OK  | 
| marray 1.30.0 | Yee Hwa (Jean) Yang |  OK  |  OK  |  OK  | 
| maSigPro 1.24.1 | Maria Jose Nueda |  OK  |  OK  |  OK  | 
| MassArray 1.4.0 | Reid F. Thompson |  OK  |  OK  |  OK  | 
| MassSpecWavelet 1.18.0 | Pan Du |  OK  |  OK  |  OK  | 
| MBCB 1.6.0 | Jeff Allen |  OK  |  OK  |  OK  | 
| mBPCR 1.6.0 | P.M.V. Rancoita |  OK  |  OK  |  OK  | 
| mcaGUI 1.0.0 | Wade K. Copeland |  OK  |  WARNINGS  |  OK  | 
| MCRestimate 2.8.0 | Marc Johannes |  OK  |  OK  |  OK  | 
| mdqc 1.14.0 | Gabriela Cohen-Freue |  OK  |  OK  |  OK  | 
| MeasurementError.cor 1.24.0 | Beiying Ding |  OK  |  OK  |  OK  | 
| MEDIPS 1.2.0 | Lukas Chavez |  OK  |  OK  |  OK  | 
| MEDME 1.12.0 | Mattia Pelizzola |  OK  |  OK  |  OK  | 
| MergeMaid 2.24.0 | Xiaogang Zhong |  OK  |  OK  |  OK  | 
| metaArray 1.28.0 | Hyungwon Choi |  OK  |  OK  |  OK  | 
| metahdep 1.10.0 | John R. Stevens |  OK  |  OK  |  OK  | 
| methVisual 1.4.0 | Arie Zackay |  OK  |  OK  |  OK  | 
| methylumi 1.8.0 | Sean Davis |  OK  |  OK  |  OK  | 
| Mfuzz 2.10.0 | Matthias Futschik |  OK  |  OK  |  OK  | 
| mgsa 1.0.0 | Sebastian Bauer |  OK  |  OK  |  OK  | 
| MiChip 1.6.0 | Jonathon Blake |  OK  |  OK  |  OK  | 
| microRNA 1.10.0 | Chao-Jen Wong |  OK  |  OK  |  OK  | 
| minet 3.6.0 | Patrick E. Meyer |  OK  |  OK  |  OK  | 
| MiPP 1.24.0 | Sukwoo Kim |  OK  |  OK  |  OK  | 
| miRNApath 1.12.0 | James M. Ward |  OK  |  OK  |  OK  | 
| MLInterfaces 1.32.0 | V. Carey |  OK  |  OK  |  OK  | 
| MLP 1.0.0 | Tobias Verbeke |  OK  |  OK  |  OK  | 
| mosaics 1.0.1 | Dongjun Chung |  OK  |  OK  |  OK  | 
| MotIV 1.6.0 | Eloi Mercier , Raphael Gottardo |  OK  |  OK  |  OK  | 
| MSnbase 1.0.7 | Laurent Gatto |  OK  |  OK  |  OK  | 
| Mulcom 1.2.5 | Claudio Isella |  OK  |  OK  |  OK  | 
| multiscan 1.12.0 | Mizanur Khondoker |  OK  |  OK  |  OK  | 
| multtest 2.8.0 | Katherine S. Pollard |  OK  |  OK  |  OK  | 
| MVCClass 1.26.0 | Elizabeth Whalen |  OK  |  OK  |  OK  | 
 | 
| N  A  B  C  D  E  F  G  H  I  J  K  L  M [N] O  P  Q  R  S  T  U  V  W  X  Y  Z  | 
| NCIgraph 1.0.0 | Laurent Jacob |  OK  |  OK  |  OK  | 
| nem 2.16.1 | Holger Froehlich |  OK  |  OK  |  OK  | 
| netresponse 1.4.0 | Leo Lahti |  OK  |  OK  |  OK  | 
| nnNorm 2.16.0 | Adi Laurentiu Tarca |  OK  |  OK  |  OK  | 
| NTW 1.2.0 | Yuanhua Liu |  OK  |  OK  |  OK  | 
| nudge 1.18.0 | N. Dean |  OK  |  OK  |  OK  | 
| NuPoP 1.2.0 | Ji-Ping Wang |  OK  |  OK  |  OK  | 
 | 
| O  A  B  C  D  E  F  G  H  I  J  K  L  M  N [O] P  Q  R  S  T  U  V  W  X  Y  Z  | 
| occugene 1.12.0 | Oliver Will |  OK  |  OK  |  OK  | 
| OCplus 1.26.0 | Alexander Ploner |  OK  |  OK  |  OK  | 
| oligo 1.16.2 | Benilton Carvalho |  OK  |  WARNINGS  |  OK  | 
| oligoClasses 1.14.0 | Benilton Carvalho  and Robert Scharpf |  OK  |  OK  |  OK  | 
| OLIN 1.30.0 | Matthias Futschik |  OK  |  OK  |  OK  | 
| OLINgui 1.26.0 | Matthias Futschik |  OK  |  OK  |  OK  | 
| oneChannelGUI 1.18.7 | Raffaele A Calogero |  OK  |  WARNINGS  |  OK  | 
| ontoCAT 1.4.2 | Natalja Kurbatova |  OK  |  OK  |  OK  | 
| ontoTools 1.30.0 | Vince Carey |  OK  |  OK  |  OK  | 
| OrderedList 1.24.0 | Claudio Lottaz |  OK  |  OK  |  OK  | 
| OTUbase 1.2.0 | Daniel Beck |  OK  |  OK  |  OK  | 
| OutlierD 1.16.0 | Sukwoo Kim |  OK  |  OK  |  OK  | 
 | 
| P  A  B  C  D  E  F  G  H  I  J  K  L  M  N  O [P] Q  R  S  T  U  V  W  X  Y  Z  | 
| pamr 1.50.0 | Rob Tibshirani |  OK  |  WARNINGS  |  OK  | 
| PAnnBuilder 1.16.0 | Li Hong |  OK  |  OK  |  OK  | 
| panp 1.22.0 | Peter Warren |  OK  |  OK  |  OK  | 
| parody 1.10.0 | VJ Carey |  OK  |  OK  |  OK  | 
| pathRender 1.20.0 | Li Long |  OK  |  OK  |  OK  | 
| PatientGeneSets 1.2.0 | Simina M. Boca |  OK  |  OK  |  OK  | 
| pcaMethods 1.36.0 | Wolfram Stacklies |  OK  |  OK  |  OK  | 
| pcot2 1.20.0 | Sarah Song |  OK  |  OK  |  OK  | 
| PCpheno 1.14.0 | Nolwenn Le Meur |  OK  |  OK  |  OK  | 
| pdInfoBuilder 1.16.0 | Benilton Carvalho |  OK  |  WARNINGS  |  OK  | 
| pdmclass 1.24.0 | James W. MacDonald |  OK  |  OK  |  OK  | 
| PGSEA 1.26.0 | Karl Dykema |  OK  |  OK  |  OK  | 
| pgUtils 1.24.0 | Johannes Rainer |  OK  |  OK  |  OK  | 
| phenoDist 1.0.0 | Xian Zhang | N O T   S U P P O R T E D | 
| phenoTest 1.0.0 | Evarist Planet |  OK  |  OK  |  OK  | 
| pickgene 1.24.0 | Brian S. Yandell |  OK  |  OK  |  OK  | 
| PICS 1.6.0 | Arnaud Droit , Xuekui Zhang , Raphael Gottardo |  OK  |  WARNINGS  |  OK  | 
| pint 1.4.04 | Olli-Pekka Huovilainen |  OK  |  OK  |  OK  | 
| pkgDepTools 1.18.0 | Seth Falcon |  OK  |  OK  |  OK  | 
| plateCore 1.10.0 | Errol Strain |  OK  |  OK  |  OK  | 
| plgem 1.24.0 | Norman Pavelka |  OK  |  OK  |  OK  | 
| plier 1.22.0 | Crispin Miller |  OK  |  OK  |  OK  | 
| PLPE 1.12.0 | Soo-heang Eo |  OK  |  OK  |  OK  | 
| plw 1.12.0 | Magnus Astrand |  OK  |  OK  |  OK  | 
| ppiStats 1.18.0 | Tony Chiang |  OK  |  OK  |  OK  | 
| prada 1.28.0 | Florian Hahne |  OK  |  OK  |  OK  | 
| preprocessCore 1.14.0 | Benjamin Milo Bolstad |  OK  |  OK  |  OK  | 
| PROcess 1.28.0 | Xiaochun Li |  OK  |  OK  |  OK  | 
| procoil 1.2.0 | Ulrich Bodenhofer |  OK  |  OK  |  OK  | 
| PROMISE 1.4.0 | Xueyuan Cao |  OK  |  OK  |  OK  | 
| puma 2.4.0 | Richard Pearson , Li Zhang |  OK  |  WARNINGS  |  OK  | 
| pvac 1.0.0 | Jun Lu , Pierre R. Bushel |  OK  |  OK  |  OK  | 
 | 
| Q  A  B  C  D  E  F  G  H  I  J  K  L  M  N  O  P [Q] R  S  T  U  V  W  X  Y  Z  | 
| qpcrNorm 1.10.0 | Jessica Mar |  OK  |  OK  |  OK  | 
| qpgraph 1.8.2 | Robert Castelo |  OK  |  OK  |  OK  | 
| qrqc 1.0.0 | Vince Buffalo |  OK  |  OK  |  OK  | 
| quantsmooth 1.18.0 | Jan Oosting |  OK  |  OK  |  OK  | 
| qvalue 1.26.0 | John D. Storey |  OK  |  OK  |  OK  | 
 | 
| R  A  B  C  D  E  F  G  H  I  J  K  L  M  N  O  P  Q [R] S  T  U  V  W  X  Y  Z  | 
| R453Plus1Toolbox 1.2.2 | Hans-Ulrich Klein |  OK  |  OK  |  OK  | 
| rama 1.26.0 | Raphael Gottardo |  OK  |  OK  |  OK  | 
| RankProd 2.24.0 | Fangxin Hong |  OK  |  OK  |  OK  | 
| RbcBook1 1.20.0 | Vince Carey |  OK  |  WARNINGS  |  OK  | 
| RBGL 1.28.0 | Li Long |  OK  |  WARNINGS  |  OK  | 
| RBioinf 1.12.0 | Robert Gentleman |  OK  |  OK  |  OK  | 
| rbsurv 2.10.0 | Soo-heang Eo |  OK  |  OK  |  OK  | 
| RCytoscape 1.2.1 | Paul Shannon |  OK  |  ERROR  |  OK  | 
| Rdbi 1.26.0 | Jianhua Zhang |  OK  |  OK  |  OK  | 
| RdbiPgSQL 1.26.0 | Jianhua Zhang |  OK  |  ERROR  |  ERROR  | 
| Rdisop 1.12.0 | Steffen Neumann |  OK  |  OK  |  OK  | 
| RDRToolbox 1.2.0 | Christoph Bartenhagen |  OK  |  ERROR  |  OK  | 
| reb 1.28.0 | Karl J. Dykema |  OK  |  OK  |  OK  | 
| RefPlus 1.22.0 | Kai-Ming Chang |  OK  |  OK  |  OK  | 
| Resourcerer 1.26.0 | Jianhua Zhang |  OK  |  OK  |  OK  | 
| rflowcyt 1.24.0 | N. LeMeur |  OK  |  OK  |  OK  | 
| rGADEM 1.4.0 | Arnaud Droit |  OK  |  OK  |  OK  | 
| Rgraphviz 1.30.1 | Kasper Hansen |  OK  |  ERROR  |  OK  | 
| rHVDM 1.18.0 | Martino Barenco |  OK  |  OK  |  OK  | 
| Ringo 1.16.0 | J. Toedling |  OK  |  OK  |  OK  | 
| RLMM 1.14.0 | Nusrat Rabbee |  OK  |  OK  |  OK  | 
| RMAGEML 2.26.0 | Steffen Durinck | N O T   S U P P O R T E D | 
| Rmagpie 1.8.0 | Camille Maumet |  OK  |  OK  |  OK  | 
| RMAPPER 1.2.0 | Heike Sichtig , Alberto Riva |  OK  |  OK  |  OK  | 
| rMAT 3.2.0 | Arnaud Droit  and Raphael Gottardo |  OK  |  WARNINGS  |  OK  | 
| RmiR 1.8.0 | Francesco Favero |  OK  |  OK  |  OK  | 
| RNAinteract 1.0.0 | Bernd Fischer |  OK  |  OK  |  OK  | 
| RNAither 2.0.0 | Nora Rieber |  OK  |  OK  |  OK  | 
| rnaSeqMap 2.7.12 | Michal Okoniewski |  OK  |  OK  |  OK  | 
| ROC 1.28.0 | Vince Carey |  OK  |  OK  |  OK  | 
| Rolexa 1.8.0 | Jacques Rougemont |  OK  |  OK  |  OK  | 
| RPA 1.8.01 | Leo Lahti |  OK  |  OK  |  OK  | 
| RpsiXML 1.12.0 | Jitao David Zhang |  OK  |  OK  |  OK  | 
| Rredland 1.18.0 | VJ Carey | N O T   S U P P O R T E D | 
| Rsamtools 1.4.3 | Biocore Team c/o BioC user list |  OK  |  OK  |  OK  | 
| rsbml 2.10.0 | Michael Lawrence |  OK  |  WARNINGS  |  OK  | 
| Rsubread 1.1.1 | Wei Shi | N O T   S U P P O R T E D | 
| RTCA 1.4.0 | Jitao David Zhang |  OK  |  WARNINGS  |  OK  | 
| RTools4TB 1.8.0 | Aurelie Bergon |  ERROR  |  skipped  |  skipped  | 
| rtracklayer 1.12.5 | Michael Lawrence |  OK  |  WARNINGS  |  OK  | 
| Rtreemix 1.14.0 | Jasmina Bogojeska |  OK  |  OK  |  OK  | 
| Ruuid 1.30.0 | Biocore Team c/o BioC user list |  OK  |  OK  |  OK  | 
| RWebServices 1.16.0 | Martin Morgan | N O T   S U P P O R T E D | 
 | 
| S  A  B  C  D  E  F  G  H  I  J  K  L  M  N  O  P  Q  R [S] T  U  V  W  X  Y  Z  | 
| safe 2.12.0 | William T. Barry |  OK  |  OK  |  OK  | 
| sagenhaft 1.22.0 | Tim Beissbarth |  OK  |  OK  |  OK  | 
| SAGx 1.26.0 | Per Broberg, |  OK  |  OK  |  OK  | 
| SamSPECTRAL 1.6.0 | Habil Zare |  OK  |  OK  |  OK  | 
| SBMLR 1.48.0 | Tomas Radivoyevitch |  OK  |  OK  |  OK  | 
| ScISI 1.24.0 | Tony Chiang |  OK  |  OK  |  OK  | 
| segmentSeq 1.4.0 | Thomas J. Hardcastle |  OK  |  OK  |  OK  | 
| seqbias 1.0.0 | Daniel Jones |  OK  |  OK  |  OK  | 
| seqLogo 1.18.0 | Oliver Bembom |  OK  |  OK  |  OK  | 
| ShortRead 1.10.4 | Biocore Team c/o BioC user list |  OK  |  WARNINGS  |  OK  | 
| siggenes 1.26.0 | Holger Schwender |  OK  |  OK  |  OK  | 
| sigPathway 1.20.0 | Weil Lai |  OK  |  OK  |  OK  | 
| SIM 1.20.0 | Maarten van Iterson |  OK  |  OK  |  OK  | 
| simpleaffy 2.28.0 | Crispin Miller |  OK  |  OK  |  OK  | 
| simulatorAPMS 1.24.0 | Tony Chiang |  OK  |  OK  |  OK  | 
| sizepower 1.22.0 | Weiliang Qiu |  OK  |  OK  |  OK  | 
| SJava 0.78.0 | Martin Morgan | N O T   S U P P O R T E D | 
| SLGI 1.12.0 | Nolwenn Le Meur |  OK  |  OK  |  OK  | 
| SLqPCR 1.18.0 | Matthias Kohl |  OK  |  OK  |  OK  | 
| SMAP 1.16.0 | Robin Andersson |  OK  |  OK  |  OK  | 
| snapCGH 1.22.0 | John Marioni |  OK  |  OK  |  OK  | 
| snm 1.0.0 | Brig Mecham |  OK  |  WARNINGS  |  OK  | 
| SNPchip 1.16.0 | Robert Scharpf |  OK  |  OK  |  OK  | 
| snpMatrix 1.16.5 | David Clayton |  OK  |  OK  |  OK  | 
| snpStats 1.2.1 | David Clayton |  OK  |  OK  |  OK  | 
| SpeCond 1.6.0 | Florence Cavalli |  OK  |  OK  |  OK  | 
| SPIA 2.2.0 | Adi Laurentiu Tarca |  OK  |  OK  |  OK  | 
| spikeLI 2.12.0 | Enrico Carlon |  OK  |  OK  |  OK  | 
| spkTools 1.8.0 | Matthew N McCall |  OK  |  OK  |  OK  | 
| splicegear 1.24.0 | Laurent Gautier |  OK  |  OK  |  OK  | 
| splots 1.18.0 | Wolfgang Huber |  OK  |  OK  |  OK  | 
| spotSegmentation 1.26.0 | Chris Fraley |  OK  |  OK  |  OK  | 
| SQUADD 1.2.0 | Martial Sankar |  OK  |  OK  |  OK  | 
| SRAdb 1.6.0 | Jack Zhu |  OK  |  OK  |  OK  | 
| sscore 1.24.0 | Richard Kennedy |  OK  |  OK  |  OK  | 
| ssize 1.26.0 | Gregory R. Warnes |  OK  |  OK  |  OK  | 
| SSPA 1.8.0 | Maarten van Iterson |  OK  |  OK  |  OK  | 
| Starr 1.8.1 | Benedikt Zacher |  OK  |  OK  |  OK  | 
| stepNorm 1.24.0 | Yuanyuan Xiao |  OK  |  OK  |  OK  | 
| survcomp 1.2.1 | Benjamin Haibe-Kains , Markus Schroeder |  OK  |  OK  |  OK  | 
 | 
| T  A  B  C  D  E  F  G  H  I  J  K  L  M  N  O  P  Q  R  S [T] U  V  W  X  Y  Z  | 
| TargetSearch 1.8.2 | Alvaro Cuadros-Inostroza |  OK  |  OK  |  OK  | 
| TDARACNE 1.2.0 | Zoppoli Pietro |  OK  |  OK  |  OK  | 
| TEQC 1.0.0 | Manuela Hummel |  OK  |  OK  |  OK  | 
| tigre 1.6.2 | Antti Honkela |  OK  |  OK  |  OK  | 
| tilingArray 1.30.0 | Zhenyu Xu |  OK  |  OK  |  OK  | 
| timecourse 1.24.0 | Yu Chuan Tai |  OK  |  OK  |  OK  | 
| tkWidgets 1.30.0 | J. Zhang |  OK  |  OK  |  OK  | 
| topGO 2.4.0 | Adrian Alexa |  OK  |  OK  |  OK  | 
| tspair 1.10.0 | Jeffrey T. Leek |  OK  |  OK  |  OK  | 
| TurboNorm 1.0.0 | Maarten van Iterson |  OK  |  OK  |  OK  | 
| twilight 1.28.0 | Stefanie Scheid |  OK  |  OK  |  OK  | 
| TypeInfo 1.18.0 | Duncan Temple Lang |  OK  |  OK  |  OK  | 
 | 
| V  A  B  C  D  E  F  G  H  I  J  K  L  M  N  O  P  Q  R  S  T  U [V] W  X  Y  Z  | 
| VanillaICE 1.14.0 | Robert Scharpf |  OK  |  OK  |  OK  | 
| vbmp 1.20.0 | Nicola Lama |  OK  |  OK  |  OK  | 
| Vega 1.0.0 | Sandro Morganella |  OK  |  WARNINGS  |  OK  | 
| vsn 3.20.0 | Wolfgang Huber |  OK  |  OK  |  OK  | 
 | 
| W  A  B  C  D  E  F  G  H  I  J  K  L  M  N  O  P  Q  R  S  T  U  V [W] X  Y  Z  | 
| weaver 1.18.0 | Seth Falcon |  OK  |  OK  |  OK  | 
| webbioc 1.24.0 | Colin A. Smith |  OK  |  OK  |  OK  | 
| widgetTools 1.30.0 | Jianhua Zhang |  OK  |  OK  |  OK  | 
 | 
| X  A  B  C  D  E  F  G  H  I  J  K  L  M  N  O  P  Q  R  S  T  U  V  W [X] Y  Z  | 
| xcms 1.26.1 | Ralf Tautenhahn |  OK  |  OK  |  OK  | 
| XDE 1.12.0 | Robert Scharpf |  OK  |  OK  |  OK  | 
| xmapbridge 1.10.0 | Tim Yates |  OK  |  OK  |  OK  | 
| xmapcore 1.6.2 | Tim Yates |  OK  |  OK  |  OK  | 
| xps 1.12.1 | Christian Stratowa |  OK  |  OK  |  OK  | 
 | 
| Y  A  B  C  D  E  F  G  H  I  J  K  L  M  N  O  P  Q  R  S  T  U  V  W  X [Y] Z  | 
| yaqcaffy 1.12.0 | Laurent Gatto |  OK  |  OK  |  OK  |