| Back to the "Multiple platform build/check report" | A B C D E F G H I J K L [M] N O P Q R S T U V W X Y Z |
| Package 247/444 | Hostname | OS / Arch | BUILD | CHECK | BUILD BIN | ||||
| maDB 1.23.0 Johannes Rainer
| lamb1 | Linux (openSUSE 11.3) / x86_64 | OK | OK | |||||
| liverpool | Windows Server 2003 R2 (32-bit) / x64 | N O T S U P P O R T E D | |||||||
| gewurz | Windows Server 2008 R2 Enterprise (64-bit) / x64 | N O T S U P P O R T E D | |||||||
| pelham | Mac OS X Leopard (10.5.8) / i386 | OK | OK | OK | |||||
| petty | Mac OS X Snow Leopard (10.6.6) / i386 | OK | ERROR | [ ERROR ] | |||||
| Package: maDB |
| Version: 1.23.0 |
| Command: /Users/biocbuild/BBS/utils/build-universal.sh maDB_1.23.0.tar.gz /Library/Frameworks/R.framework/Versions/2.13/Resources/bin/R maDB.buildbin-libdir |
| StartedAt: 2011-03-17 18:01:44 -0700 (Thu, 17 Mar 2011) |
| EndedAt: 2011-03-17 18:01:46 -0700 (Thu, 17 Mar 2011) |
| EllapsedTime: 2.5 seconds |
| RetCode: 1 |
| Status: ERROR |
| PackageFile: None |
| PackageFileSize: NA |
>>>>>>> >>>>>>> INSTALLATION WITH 'R CMD INSTALL --preclean --library=maDB.buildbin-libdir maDB_1.23.0.tar.gz' >>>>>>> ERROR: dependency 'pgUtils' is not available for package 'maDB' * removing '/Users/biocbuild/bbs-2.8-bioc/meat/maDB.buildbin-libdir/maDB'