| hyperdraw 1.4.0 Paul Murrell
 
 | Snapshot Date: 2011-10-20 07:20:33 -0700 (Thu, 20 Oct 2011) |  | URL: https://hedgehog.fhcrc.org/bioconductor/branches/RELEASE_2_8/madman/Rpacks/hyperdraw |  | Last Changed Rev: 54800 / Revision: 59457 |  | Last Changed Date: 2011-04-13 15:27:35 -0700 (Wed, 13 Apr 2011) | 
 | lamb1 | Linux (openSUSE 11.3) / x86_64 | OK | OK |  | 
| liverpool | Windows Server 2003 R2 (32-bit) / x64 | OK | OK | [ OK ] | 
| gewurz | Windows Server 2008 R2 Enterprise SP1 (64-bit) / x64 | OK | WARNINGS | OK | 
| pelham | Mac OS X Leopard (10.5.8) / i386 | OK | OK | OK | 
* installing *source* package 'hyperdraw' ...
** R
** inst
** preparing package for lazy loading
Creating a generic for 'graphLayout' in package 'hyperdraw'
    (the supplied definition differs from and overrides the implicit generic
    in package 'Rgraphviz': Classes: "nonstandardGenericFunction", "standardGeneric")
** help
*** installing help indices
** building package indices ...
** testing if installed package can be loaded
* MD5 sums
packaged installation of 'hyperdraw' as hyperdraw_1.4.0.zip
* DONE (hyperdraw)