globaltest 5.6.1 Jelle Goeman
 | Snapshot Date: 2011-10-20 07:20:33 -0700 (Thu, 20 Oct 2011) |  | URL: https://hedgehog.fhcrc.org/bioconductor/branches/RELEASE_2_8/madman/Rpacks/globaltest |  | Last Changed Rev: 56342 / Revision: 59457 |  | Last Changed Date: 2011-06-21 05:50:23 -0700 (Tue, 21 Jun 2011) |  
  | lamb1  | Linux (openSUSE 11.3) / x86_64  |  OK  |  OK  |  | 
| liverpool  | Windows Server 2003 R2 (32-bit) / x64  |  OK  |  OK  | [ OK ] | 
| gewurz  | Windows Server 2008 R2 Enterprise SP1 (64-bit) / x64  |  OK  |  WARNINGS  |  OK  | 
| pelham  | Mac OS X Leopard (10.5.8) / i386  |  OK  |  OK  |  OK  | 
* installing *source* package 'globaltest' ...
** R
** data
** inst
** preparing package for lazy loading
Loading required package: Biobase
Welcome to Bioconductor
  Vignettes contain introductory material. To view, type
  'browseVignettes()'. To cite Bioconductor, see
  'citation("Biobase")' and for packages 'citation("pkgname")'.
Creating a new generic function for "sort" in "globaltest"
Creating a new generic function for "model.matrix" in "globaltest"
Creating a new generic function for "coefficients" in "globaltest"
Creating a new generic function for "fitted.values" in "globaltest"
Creating a new generic function for "residuals" in "globaltest"
** help
*** installing help indices
** building package indices ...
** testing if installed package can be loaded
* MD5 sums
packaged installation of 'globaltest' as globaltest_5.6.1.zip
* DONE (globaltest)