| flowFP 1.8.0 Herb Holyst
 
 | Snapshot Date: 2011-10-20 07:20:33 -0700 (Thu, 20 Oct 2011) |  | URL: https://hedgehog.fhcrc.org/bioconductor/branches/RELEASE_2_8/madman/Rpacks/flowFP |  | Last Changed Rev: 54800 / Revision: 59457 |  | Last Changed Date: 2011-04-13 15:27:35 -0700 (Wed, 13 Apr 2011) | 
 | lamb1 | Linux (openSUSE 11.3) / x86_64 | OK | OK |  | 
| liverpool | Windows Server 2003 R2 (32-bit) / x64 | OK | OK | [ OK ] | 
| gewurz | Windows Server 2008 R2 Enterprise SP1 (64-bit) / x64 | OK | WARNINGS | OK | 
| pelham | Mac OS X Leopard (10.5.8) / i386 | OK | OK | OK | 
* installing *source* package 'flowFP' ...
   **********************************************
   WARNING: this package has a configure script
         It probably needs manual configuration
   **********************************************
** libs
gcc -I"E:/biocbld/bbs-2.8-bioc/R/include"          -O3 -Wall  -std=gnu99 -c flowFP.c -o flowFP.o
gcc -I"E:/biocbld/bbs-2.8-bioc/R/include"          -O3 -Wall  -std=gnu99 -c init.c -o init.o
gcc -I"E:/biocbld/bbs-2.8-bioc/R/include"          -O3 -Wall  -std=gnu99 -c split_utils.c -o split_utils.o
gcc -shared -s -static-libgcc -o flowFP.dll tmp.def flowFP.o init.o split_utils.o -LE:/biocbld/bbs-2.8-bioc/R/bin/i386 -lR
installing to E:/biocbld/bbs-2.8-bioc/meat/flowFP.buildbin-libdir/flowFP/libs/i386
** R
** data
** inst
** preparing package for lazy loading
Scalable Robust Estimators with High Breakdown Point (version 1.3-01)
** help
*** installing help indices
** building package indices ...
** testing if installed package can be loaded
Scalable Robust Estimators with High Breakdown Point (version 1.3-01)
* MD5 sums
packaged installation of 'flowFP' as flowFP_1.8.0.zip
* DONE (flowFP)