| cycle 1.5.0 Matthias Futschik
 
 | Snapshot Date: 2011-03-17 11:16:30 -0700 (Thu, 17 Mar 2011) |  | URL: https://hedgehog.fhcrc.org/bioconductor/trunk/madman/Rpacks/cycle |  | Last Changed Rev: 50295 / Revision: 53825 |  | Last Changed Date: 2010-10-17 22:57:44 -0700 (Sun, 17 Oct 2010) | 
 | lamb1 | Linux (openSUSE 11.3) / x86_64 | OK | OK |  | 
| liverpool | Windows Server 2003 R2 (32-bit) / x64 | OK | OK | OK | 
| gewurz | Windows Server 2008 R2 Enterprise (64-bit) / x64 | OK | OK | OK | 
| pelham | Mac OS X Leopard (10.5.8) / i386 | OK | OK | OK | 
| petty | Mac OS X Snow Leopard (10.6.6) / i386 | OK | OK | [ OK ] | 
>>>>>>> 
>>>>>>> INSTALLATION WITH 'R CMD INSTALL --preclean --library=cycle.buildbin-libdir cycle_1.5.0.tar.gz'
>>>>>>> 
* installing *source* package 'cycle' ...
** R
** inst
** preparing package for lazy loading
Loading required package: Biobase
Welcome to Bioconductor
  Vignettes contain introductory material. To view, type
  'browseVignettes()'. To cite Bioconductor, see
  'citation("Biobase")' and for packages 'citation("pkgname")'.
Loading required package: e1071
Loading required package: class
Loading Tcl/Tk interface ... done
** help
*** installing help indices
** building package indices ...
** testing if installed package can be loaded
* DONE (cycle)