clusterProfiler 1.0.6 Guangchuang Yu
 | Snapshot Date: 2011-10-20 07:20:33 -0700 (Thu, 20 Oct 2011) |  | URL: https://hedgehog.fhcrc.org/bioconductor/branches/RELEASE_2_8/madman/Rpacks/clusterProfiler |  | Last Changed Rev: 57108 / Revision: 59457 |  | Last Changed Date: 2011-07-28 21:36:30 -0700 (Thu, 28 Jul 2011) |  
  | lamb1  | Linux (openSUSE 11.3) / x86_64  |  OK  |  OK  |  | 
| liverpool  | Windows Server 2003 R2 (32-bit) / x64  |  OK  |  OK  |  OK  | 
| gewurz  | Windows Server 2008 R2 Enterprise SP1 (64-bit) / x64  |  OK  |  OK  | [ OK ] | 
| pelham  | Mac OS X Leopard (10.5.8) / i386  |  OK  |  OK  |  OK  | 
* installing *source* package 'clusterProfiler' ...
** R
** data
** inst
** preparing package for lazy loading
Loading Tcl/Tk interface ... done
Loading required package: DBI
** help
*** installing help indices
** building package indices ...
** testing if installed package can be loaded
* MD5 sums
packaged installation of 'clusterProfiler' as clusterProfiler_1.0.6.zip
* DONE (clusterProfiler)