| Back to the "Multiple platform build/check report" | [A] B C D E F G H I J K L M N O P Q R S T U V W X Y Z |
| Package 3/467 | Hostname | OS / Arch | BUILD | CHECK | BUILD BIN | ||||
| a4Classif 1.1.3 Tobias Verbeke
| lamb1 | Linux (openSUSE 11.3) / x86_64 | OK | WARNINGS | |||||
| liverpool | Windows Server 2003 R2 (32-bit) / x64 | OK | WARNINGS | OK | |||||
| gewurz | Windows Server 2008 R2 Enterprise SP1 (64-bit) / x64 | [ OK ] | WARNINGS | OK | |||||
| pelham | Mac OS X Leopard (10.5.8) / i386 | OK | WARNINGS | OK |
| Package: a4Classif |
| Version: 1.1.3 |
| Command: chmod a+r a4Classif -R && D:\biocbld\bbs-2.8-bioc\R\bin\R.exe CMD build --keep-empty-dirs --no-resave-data a4Classif |
| StartedAt: 2011-10-20 12:33:30 -0700 (Thu, 20 Oct 2011) |
| EndedAt: 2011-10-20 12:33:30 -0700 (Thu, 20 Oct 2011) |
| EllapsedTime: 0.7 seconds |
| RetCode: 0 |
| Status: OK |
| PackageFile: a4Classif_1.1.3.tar.gz |
| PackageFileSize: 5.065 KiB |
* checking for file 'a4Classif/DESCRIPTION' ... OK * preparing 'a4Classif': * checking DESCRIPTION meta-information ... OK * checking for LF line-endings in source and make files * checking for empty or unneeded directories * building 'a4Classif_1.1.3.tar.gz'