| RNAither 2.0.0 Nora Rieber
 
 | Snapshot Date: 2011-10-20 07:20:33 -0700 (Thu, 20 Oct 2011) |  | URL: https://hedgehog.fhcrc.org/bioconductor/branches/RELEASE_2_8/madman/Rpacks/RNAither |  | Last Changed Rev: 56648 / Revision: 59457 |  | Last Changed Date: 2011-07-10 12:54:07 -0700 (Sun, 10 Jul 2011) | 
 | lamb1 | Linux (openSUSE 11.3) / x86_64 | OK | OK |  | 
| liverpool | Windows Server 2003 R2 (32-bit) / x64 | OK | OK | [ OK ] | 
| gewurz | Windows Server 2008 R2 Enterprise SP1 (64-bit) / x64 | OK | WARNINGS | OK | 
| pelham | Mac OS X Leopard (10.5.8) / i386 | OK | OK | OK | 
* installing *source* package 'RNAither' ...
** R
** data
** inst
** preparing package for lazy loading
groupGOTerms: 	GOBPTerm, GOMFTerm, GOCCTerm environments built.
Scalable Robust Estimators with High Breakdown Point (version 1.3-01)
** help
*** installing help indices
** building package indices ...
** testing if installed package can be loaded
groupGOTerms: 	GOBPTerm, GOMFTerm, GOCCTerm environments built.
Scalable Robust Estimators with High Breakdown Point (version 1.3-01)
* MD5 sums
packaged installation of 'RNAither' as RNAither_2.0.0.zip
* DONE (RNAither)