PAnnBuilder 1.16.0 Li Hong
 | Snapshot Date: 2011-10-20 07:20:33 -0700 (Thu, 20 Oct 2011) |  | URL: https://hedgehog.fhcrc.org/bioconductor/branches/RELEASE_2_8/madman/Rpacks/PAnnBuilder |  | Last Changed Rev: 56142 / Revision: 59457 |  | Last Changed Date: 2011-06-13 11:59:45 -0700 (Mon, 13 Jun 2011) |  
  | lamb1  | Linux (openSUSE 11.3) / x86_64  |  OK  |  OK  |  | 
| liverpool  | Windows Server 2003 R2 (32-bit) / x64  |  OK  |  OK  |  OK  | 
| gewurz  | Windows Server 2008 R2 Enterprise SP1 (64-bit) / x64  |  OK  |  WARNINGS  | [ OK ] | 
| pelham  | Mac OS X Leopard (10.5.8) / i386  |  OK  |  OK  |  OK  | 
* installing *source* package 'PAnnBuilder' ...
** R
** data
** inst
** preparing package for lazy loading
** help
*** installing help indices
** building package indices ...
** testing if installed package can be loaded
* MD5 sums
packaged installation of 'PAnnBuilder' as PAnnBuilder_1.16.0.zip
* DONE (PAnnBuilder)