HEM 1.24.0 HyungJun Cho
 | Snapshot Date: 2011-10-20 07:20:33 -0700 (Thu, 20 Oct 2011) |  | URL: https://hedgehog.fhcrc.org/bioconductor/branches/RELEASE_2_8/madman/Rpacks/HEM |  | Last Changed Rev: 54808 / Revision: 59457 |  | Last Changed Date: 2011-04-13 18:03:42 -0700 (Wed, 13 Apr 2011) |  
  | lamb1  | Linux (openSUSE 11.3) / x86_64  |  OK  |  OK  |  | 
| liverpool  | Windows Server 2003 R2 (32-bit) / x64  |  OK  |  OK  |  OK  | 
| gewurz  | Windows Server 2008 R2 Enterprise SP1 (64-bit) / x64  |  OK  |  WARNINGS  | [ OK ] | 
| pelham  | Mac OS X Leopard (10.5.8) / i386  |  OK  |  OK  |  OK  | 
* installing *source* package 'HEM' ...
** libs
x86_64-w64-mingw32-gcc -I"D:/biocbld/bbs-2.8-bioc/R/include"          -O2 -Wall  -std=gnu99 -c hem.c -o hem.o
x86_64-w64-mingw32-gcc -shared -s -static-libgcc -o HEM.dll tmp.def hem.o -LD:/biocbld/bbs-2.8-bioc/R/bin/x64 -lR
installing to D:/biocbld/bbs-2.8-bioc/meat/HEM.buildbin-libdir/HEM/libs/x64
** R
** data
** inst
** preparing package for lazy loading
** help
*** installing help indices
** building package indices ...
** testing if installed package can be loaded
* MD5 sums
packaged installation of 'HEM' as HEM_1.24.0.zip
* DONE (HEM)