GSRI 1.99.1 Julian Gehring
| Snapshot Date: 2011-03-17 11:16:30 -0700 (Thu, 17 Mar 2011) | | URL: https://hedgehog.fhcrc.org/bioconductor/trunk/madman/Rpacks/GSRI | | Last Changed Rev: 53765 / Revision: 53825 | | Last Changed Date: 2011-03-15 02:13:38 -0700 (Tue, 15 Mar 2011) |
| lamb1 | Linux (openSUSE 11.3) / x86_64 | OK | OK | |
| liverpool | Windows Server 2003 R2 (32-bit) / x64 | OK | OK | OK |
| gewurz | Windows Server 2008 R2 Enterprise (64-bit) / x64 | OK | OK | OK |
| pelham | Mac OS X Leopard (10.5.8) / i386 | OK | OK | OK |
| petty | Mac OS X Snow Leopard (10.6.6) / i386 | [ OK ] | WARNINGS | OK |
* checking for file 'GSRI/DESCRIPTION' ... OK
* preparing 'GSRI':
* checking DESCRIPTION meta-information ... OK
* installing the package to re-build vignettes
* creating vignettes ... OK
* checking for LF line-endings in source and make files
* checking for empty or unneeded directories
* building 'GSRI_1.99.1.tar.gz'