GOSemSim 1.10.2 Guangchuang Yu
 | Snapshot Date: 2011-10-14 07:21:38 -0700 (Fri, 14 Oct 2011) |  | URL: https://hedgehog.fhcrc.org/bioconductor/branches/RELEASE_2_8/madman/Rpacks/GOSemSim |  | Last Changed Rev: 56606 / Revision: 59225 |  | Last Changed Date: 2011-07-06 23:08:26 -0700 (Wed, 06 Jul 2011) |  
  | lamb1  | Linux (openSUSE 11.3) / x86_64  |  OK  |  OK  |  | 
| liverpool  | Windows Server 2003 R2 (32-bit) / x64  |  OK  |  OK  |  OK  | 
| gewurz  | Windows Server 2008 R2 Enterprise SP1 (64-bit) / x64  |  OK  |  OK  | [ OK ] | 
| pelham  | Mac OS X Leopard (10.5.8) / i386  |  OK  |  OK  |  OK  | 
* installing *source* package 'GOSemSim' ...
** R
** data
** inst
** preparing package for lazy loading
Loading required package: DBI
** help
*** installing help indices
** building package indices ...
** testing if installed package can be loaded
* MD5 sums
packaged installation of 'GOSemSim' as GOSemSim_1.10.2.zip
* DONE (GOSemSim)