| ExpressionView 1.4.0 Gabor Csardi
 
 | Snapshot Date: 2011-10-20 07:20:33 -0700 (Thu, 20 Oct 2011) |  | URL: https://hedgehog.fhcrc.org/bioconductor/branches/RELEASE_2_8/madman/Rpacks/ExpressionView |  | Last Changed Rev: 54800 / Revision: 59457 |  | Last Changed Date: 2011-04-13 15:27:35 -0700 (Wed, 13 Apr 2011) | 
 | lamb1 | Linux (openSUSE 11.3) / x86_64 | OK | OK |  | 
| liverpool | Windows Server 2003 R2 (32-bit) / x64 | OK | OK | [ OK ] | 
| gewurz | Windows Server 2008 R2 Enterprise SP1 (64-bit) / x64 | OK | WARNINGS | OK | 
| pelham | Mac OS X Leopard (10.5.8) / i386 | OK | OK | OK | 
* installing *source* package 'ExpressionView' ...
** libs
g++ -I"E:/biocbld/bbs-2.8-bioc/R/include"          -O2 -Wall  -c order.cpp -o order.o
g++ -I"E:/biocbld/bbs-2.8-bioc/R/include"          -O2 -Wall  -c orderclusters.cpp -o orderclusters.o
g++ -shared -s -static-libgcc -o ExpressionView.dll tmp.def order.o orderclusters.o -LE:/biocbld/bbs-2.8-bioc/R/bin/i386 -lR
installing to E:/biocbld/bbs-2.8-bioc/meat/ExpressionView.buildbin-libdir/ExpressionView/libs/i386
** R
** inst
** preparing package for lazy loading
Loading required package: Biobase
Welcome to Bioconductor
  Vignettes contain introductory material. To view, type
  'browseVignettes()'. To cite Bioconductor, see
  'citation("Biobase")' and for packages 'citation("pkgname")'.
Loading required package: DBI
in method for 'ExportEV' with signature 'biclusters="Biclust"': no definition for class "Biclust"
Loading required package: eisa
Loading required package: isa2
Loading required package: AnnotationDbi
Loading required package: Category
Loading required package: genefilter
Loading required package: biclust
Loading required package: MASS
Attaching package: 'MASS'
The following object(s) are masked from 'package:genefilter':
    area
Loading required package: grid
Loading required package: colorspace
Loading required package: lattice
** help
*** installing help indices
** building package indices ...
Warning: value of 'results' option should be lowercase
** testing if installed package can be loaded
* MD5 sums
packaged installation of 'ExpressionView' as ExpressionView_1.4.0.zip
* DONE (ExpressionView)