| Back to the "Multiple platform build/check report" | A [B] C D E F G H I J K L M N O P Q R S T U V W X Y Z |
| Package 53/458 | Hostname | OS / Arch | BUILD | CHECK | BUILD BIN | ||||
| Bioconductor 0.99.96 Biocore Team c/o BioC user list
| lamb1 | Linux (openSUSE 11.3) / x86_64 | OK | OK | |||||
| liverpool | Windows Server 2003 R2 (32-bit) / x64 | OK | OK | OK | |||||
| gewurz | Windows Server 2008 R2 Enterprise (64-bit) / x64 | OK | OK | OK | |||||
| pelham | Mac OS X Leopard (10.5.8) / i386 | [ OK ] | OK | OK |
| Package: Bioconductor |
| Version: 0.99.96 |
| Command: /Library/Frameworks/R.framework/Versions/2.13/Resources/bin/R CMD build --keep-empty-dirs Bioconductor |
| StartedAt: 2011-04-06 19:16:50 -0700 (Wed, 06 Apr 2011) |
| EndedAt: 2011-04-06 19:16:51 -0700 (Wed, 06 Apr 2011) |
| EllapsedTime: 0.8 seconds |
| RetCode: 0 |
| Status: OK |
| PackageFile: Bioconductor_0.99.96.tar.gz |
| PackageFileSize: 5.57 KiB |
* checking for file ‘Bioconductor/DESCRIPTION’ ... OK * preparing ‘Bioconductor’: * checking DESCRIPTION meta-information ... OK * checking for LF line-endings in source and make files * checking for empty or unneeded directories * building ‘Bioconductor_0.99.96.tar.gz’