ArrayExpress 1.12.1 Audrey Kauffmann
| Snapshot Date: 2011-10-12 07:21:35 -0700 (Wed, 12 Oct 2011) | | URL: https://hedgehog.fhcrc.org/bioconductor/branches/RELEASE_2_8/madman/Rpacks/ArrayExpress | | Last Changed Rev: 58517 / Revision: 59117 | | Last Changed Date: 2011-09-28 06:52:46 -0700 (Wed, 28 Sep 2011) |
| lamb1 | Linux (openSUSE 11.3) / x86_64 | OK | TIMEOUT | |
| liverpool | Windows Server 2003 R2 (32-bit) / x64 | ERROR | skipped | skipped |
| gewurz | Windows Server 2008 R2 Enterprise SP1 (64-bit) / x64 | ERROR | skipped | skipped |
| pelham | Mac OS X Leopard (10.5.8) / i386 | OK | ERROR | [ OK ] |
>>>>>>>
>>>>>>> INSTALLATION WITH 'R CMD INSTALL --preclean --library=ArrayExpress.buildbin-libdir ArrayExpress_1.12.1.tar.gz'
>>>>>>>
* installing *source* package 'ArrayExpress' ...
** R
** inst
** preparing package for lazy loading
** help
*** installing help indices
** building package indices ...
** testing if installed package can be loaded
* DONE (ArrayExpress)