| twilight 1.27.0 Stefanie Scheid
 
 | Snapshot Date: 2011-02-24 11:26:35 -0800 (Thu, 24 Feb 2011) |  | URL: https://hedgehog.fhcrc.org/bioconductor/trunk/madman/Rpacks/twilight |  | Last Changed Rev: 50295 / Revision: 53255 |  | Last Changed Date: 2010-10-17 22:57:44 -0700 (Sun, 17 Oct 2010) | 
 | lamb2 | Linux (openSUSE 11.2) / x86_64 | OK | OK |  | 
| liverpool | Windows Server 2003 R2 (32-bit) / x64 | OK | OK | OK | 
| gewurz | Windows Server 2008 R2 Enterprise (64-bit) / x64 | OK | OK | [ OK ] | 
| pelham | Mac OS X Leopard (10.5.8) / i386 | OK | OK | OK | 
| petty | Mac OS X Snow Leopard (10.6.4) / i386 | OK | OK | OK | 
* installing *source* package 'twilight' ...
  Using auto-selected zip option '--use-zip-data'
** libs
x86_64-w64-mingw32-gcc -I"D:/biocbld/bbs-2.8-bioc/R/include"          -O2 -Wall  -std=gnu99 -c confidence.line.c -o confidence.line.o
x86_64-w64-mingw32-gcc -I"D:/biocbld/bbs-2.8-bioc/R/include"          -O2 -Wall  -std=gnu99 -c correlation.c -o correlation.o
x86_64-w64-mingw32-gcc -I"D:/biocbld/bbs-2.8-bioc/R/include"          -O2 -Wall  -std=gnu99 -c kstest.c -o kstest.o
x86_64-w64-mingw32-gcc -I"D:/biocbld/bbs-2.8-bioc/R/include"          -O2 -Wall  -std=gnu99 -c sep.c -o sep.o
x86_64-w64-mingw32-gcc -I"D:/biocbld/bbs-2.8-bioc/R/include"          -O2 -Wall  -std=gnu99 -c twosample.perm.c -o twosample.perm.o
x86_64-w64-mingw32-gcc -I"D:/biocbld/bbs-2.8-bioc/R/include"          -O2 -Wall  -std=gnu99 -c twosample.single.c -o twosample.single.o
x86_64-w64-mingw32-gcc -shared -s -static-libgcc -o twilight.dll tmp.def confidence.line.o correlation.o kstest.o sep.o twosample.perm.o twosample.single.o -LD:/biocbld/bbs-2.8-bioc/R/bin/x64 -lR
installing to D:/biocbld/bbs-2.8-bioc/meat/twilight.buildbin-libdir/twilight/libs/x64
** R
** data
** inst
** preparing package for lazy loading
Welcome to Bioconductor
  Vignettes contain introductory material. To view, type
  'browseVignettes()'. To cite Bioconductor, see
  'citation("Biobase")' and for packages 'citation(pkgname)'.
** help
*** installing help indices
** building package indices ...
** testing if installed package can be loaded
* MD5 sums
packaged installation of 'twilight' as twilight_1.27.0.zip
* DONE (twilight)