| Back to the "Multiple platform build/check report" | A B C D E F G H I J K L M N O P Q R [S] T U V W X Y Z |
| Package 403/436 | Hostname | OS / Arch | BUILD | CHECK | BUILD BIN | ||||
| splots 1.17.1 Wolfgang Huber
| lamb2 | Linux (openSUSE 11.2) / x86_64 | OK | OK | |||||
| liverpool | Windows Server 2003 R2 (32-bit) / x64 | OK | OK | OK | |||||
| gewurz | Windows Server 2008 R2 Enterprise (64-bit) / x64 | OK | OK | [ OK ] | |||||
| pelham | Mac OS X Leopard (10.5.8) / i386 | OK | OK | OK | |||||
| petty | Mac OS X Snow Leopard (10.6.4) / i386 | OK | OK | OK |
| Package: splots |
| Version: 1.17.1 |
| Command: D:\biocbld\bbs-2.8-bioc\R\bin\R.exe CMD INSTALL --build --library=splots.buildbin-libdir splots_1.17.1.tar.gz |
| StartedAt: 2011-02-24 22:45:26 -0800 (Thu, 24 Feb 2011) |
| EndedAt: 2011-02-24 22:45:28 -0800 (Thu, 24 Feb 2011) |
| EllapsedTime: 2.0 seconds |
| RetCode: 0 |
| Status: OK |
| PackageFile: splots_1.17.1.zip |
| PackageFileSize: 173.5 KiB |
* installing *source* package 'splots' ... ** R ** inst ** preparing package for lazy loading ** help *** installing help indices ** building package indices ... ** testing if installed package can be loaded * MD5 sums packaged installation of 'splots' as splots_1.17.1.zip * DONE (splots)