snpAssoc 1.1.9 David Clayton
| Snapshot Date: 2011-02-22 11:15:05 -0800 (Tue, 22 Feb 2011) | | URL: https://hedgehog.fhcrc.org/bioconductor/trunk/madman/Rpacks/snpAssoc | | Last Changed Rev: 53041 / Revision: 53058 | | Last Changed Date: 2011-02-21 13:49:13 -0800 (Mon, 21 Feb 2011) |
| lamb2 | Linux (openSUSE 11.2) / x86_64 | OK | OK | |
| liverpool | Windows Server 2003 R2 (32-bit) / x64 | [ OK ] | OK | OK |
| gewurz | Windows Server 2008 R2 Enterprise (64-bit) / x64 | OK | OK | OK |
| pelham | Mac OS X Leopard (10.5.8) / i386 | OK | OK | OK |
| petty | Mac OS X Snow Leopard (10.6.4) / i386 | OK | OK | OK |
* checking for file 'snpAssoc/DESCRIPTION' ... OK
* preparing 'snpAssoc':
* checking DESCRIPTION meta-information ... OK
* cleaning src
* installing the package to re-build vignettes
* creating vignettes ... OK
* cleaning src
* checking for LF line-endings in source and make files
* checking for empty or unneeded directories
* building 'snpAssoc_1.1.9.tar.gz'