rnaSeqMap 1.1.0 Michal Okoniewski
 | Snapshot Date: 2011-02-24 11:26:35 -0800 (Thu, 24 Feb 2011) |  | URL: https://hedgehog.fhcrc.org/bioconductor/trunk/madman/Rpacks/rnaSeqMap |  | Last Changed Rev: 50295 / Revision: 53255 |  | Last Changed Date: 2010-10-17 22:57:44 -0700 (Sun, 17 Oct 2010) |  
  | lamb2  | Linux (openSUSE 11.2) / x86_64  |  OK  |  OK  |  | 
| liverpool  | Windows Server 2003 R2 (32-bit) / x64  |  OK  |  OK  |  OK  | 
| gewurz  | Windows Server 2008 R2 Enterprise (64-bit) / x64  |  OK  |  OK  | [ OK ] | 
| pelham  | Mac OS X Leopard (10.5.8) / i386  |  OK  |  OK  |  OK  | 
| petty  | Mac OS X Snow Leopard (10.6.4) / i386  |  OK  |  OK  |  OK  | 
* installing *source* package 'rnaSeqMap' ...
  Using auto-selected zip option '--use-zip-data'
** libs
x86_64-w64-mingw32-gcc -I"D:/biocbld/bbs-2.8-bioc/R/include"          -O2 -Wall  -std=gnu99 -c Rinit.c -o Rinit.o
x86_64-w64-mingw32-gcc -I"D:/biocbld/bbs-2.8-bioc/R/include"          -O2 -Wall  -std=gnu99 -c gcoverage.c -o gcoverage.o
x86_64-w64-mingw32-gcc -I"D:/biocbld/bbs-2.8-bioc/R/include"          -O2 -Wall  -std=gnu99 -c ghistogram.c -o ghistogram.o
ghistogram.c: In function 'ghistogram':
ghistogram.c:31:11: warning: operation on 'k' may be undefined
x86_64-w64-mingw32-gcc -I"D:/biocbld/bbs-2.8-bioc/R/include"          -O2 -Wall  -std=gnu99 -c regionmining.c -o regionmining.o
regionmining.c: In function 'avg':
regionmining.c:12:4: warning: operation on 'n' may be undefined
x86_64-w64-mingw32-gcc -I"D:/biocbld/bbs-2.8-bioc/R/include"          -O2 -Wall  -std=gnu99 -c splicingind.c -o splicingind.o
x86_64-w64-mingw32-gcc -shared -s -static-libgcc -o rnaSeqMap.dll tmp.def Rinit.o gcoverage.o ghistogram.o regionmining.o splicingind.o -LD:/biocbld/bbs-2.8-bioc/R/bin/x64 -lR
installing to D:/biocbld/bbs-2.8-bioc/meat/rnaSeqMap.buildbin-libdir/rnaSeqMap/libs/x64
** R
** data
** inst
** preparing package for lazy loading
Loading required package: IRanges
Attaching package: 'IRanges'
The following object(s) are masked from 'package:base':
    Map, cbind, eval, intersect, mapply, order, paste, pmax, pmax.int,
    pmin, pmin.int, rbind, rep.int, setdiff, table, union
Loading required package: Biobase
Welcome to Bioconductor
  Vignettes contain introductory material. To view, type
  'browseVignettes()'. To cite Bioconductor, see
  'citation("Biobase")' and for packages 'citation(pkgname)'.
Attaching package: 'Biobase'
The following object(s) are masked from 'package:IRanges':
    updateObject
** help
*** installing help indices
** building package indices ...
** testing if installed package can be loaded
* MD5 sums
packaged installation of 'rnaSeqMap' as rnaSeqMap_1.1.0.zip
* DONE (rnaSeqMap)