phenoTest 0.99.3 Evarist Planet
 | Snapshot Date: 2011-02-24 11:26:35 -0800 (Thu, 24 Feb 2011) |  | URL: https://hedgehog.fhcrc.org/bioconductor/trunk/madman/Rpacks/phenoTest |  | Last Changed Rev: 53247 / Revision: 53255 |  | Last Changed Date: 2011-02-24 01:24:54 -0800 (Thu, 24 Feb 2011) |  
  | lamb2  | Linux (openSUSE 11.2) / x86_64  |  OK  |  OK  |  | 
| liverpool  | Windows Server 2003 R2 (32-bit) / x64  | [ OK ] |  OK  |  OK  | 
| gewurz  | Windows Server 2008 R2 Enterprise (64-bit) / x64  |  OK  |  OK  |  OK  | 
| pelham  | Mac OS X Leopard (10.5.8) / i386  |  OK  |  OK  |  OK  | 
| petty  | Mac OS X Snow Leopard (10.6.4) / i386  |  OK  |  OK  |  OK  | 
* checking for file 'phenoTest/DESCRIPTION' ... OK
* preparing 'phenoTest':
* checking DESCRIPTION meta-information ... OK
* cleaning src
* installing the package to re-build vignettes
* creating vignettes ... OK
* cleaning src
* checking for LF line-endings in source and make files
* checking for empty or unneeded directories
* building 'phenoTest_0.99.3.tar.gz'