| phenoDist 0.99.1 Xian Zhang
 
 | Snapshot Date: 2011-02-24 11:26:35 -0800 (Thu, 24 Feb 2011) |  | URL: https://hedgehog.fhcrc.org/bioconductor/trunk/madman/Rpacks/phenoDist |  | Last Changed Rev: 50563 / Revision: 53255 |  | Last Changed Date: 2010-10-29 11:51:33 -0700 (Fri, 29 Oct 2010) | 
 | lamb2 | Linux (openSUSE 11.2) / x86_64 | OK | OK |  | 
| liverpool | Windows Server 2003 R2 (32-bit) / x64 | OK | OK | OK | 
| gewurz | Windows Server 2008 R2 Enterprise (64-bit) / x64 | ERROR | skipped | skipped | 
| pelham | Mac OS X Leopard (10.5.8) / i386 | [ ERROR ] | skipped | skipped | 
| petty | Mac OS X Snow Leopard (10.6.4) / i386 | ERROR | skipped | skipped | 
* checking for file ‘phenoDist/DESCRIPTION’ ... OK
* preparing ‘phenoDist’:
* checking DESCRIPTION meta-information ... OK
* installing the package to re-build vignettes
      -----------------------------------
ERROR: dependency ‘imageHTS’ is not available for package ‘phenoDist’
* removing ‘/private/tmp/RtmpHknF0F/Rinst6ce4efd0/phenoDist’
      -----------------------------------
ERROR: Installation failed
Removing installation dir