oligoClasses 1.13.9 Benilton Carvalho  and Robert Scharpf
 | Snapshot Date: 2011-02-24 11:26:35 -0800 (Thu, 24 Feb 2011) |  | URL: https://hedgehog.fhcrc.org/bioconductor/trunk/madman/Rpacks/oligoClasses |  | Last Changed Rev: 51848 / Revision: 53255 |  | Last Changed Date: 2011-01-10 10:17:44 -0800 (Mon, 10 Jan 2011) |  
  | lamb2  | Linux (openSUSE 11.2) / x86_64  |  OK  |  WARNINGS  |  | 
| liverpool  | Windows Server 2003 R2 (32-bit) / x64  |  OK  |  WARNINGS  |  OK  | 
| gewurz  | Windows Server 2008 R2 Enterprise (64-bit) / x64  |  OK  |  WARNINGS  | [ OK ] | 
| pelham  | Mac OS X Leopard (10.5.8) / i386  |  OK  |  WARNINGS  |  OK  | 
| petty  | Mac OS X Snow Leopard (10.6.4) / i386  |  OK  |  WARNINGS  |  OK  | 
* installing *source* package 'oligoClasses' ...
** R
** data
** inst
** preparing package for lazy loading
Welcome to Bioconductor
  Vignettes contain introductory material. To view, type
  'browseVignettes()'. To cite Bioconductor, see
  'citation("Biobase")' and for packages 'citation(pkgname)'.
Creating a new generic function for "close" in "oligoClasses"
Creating a new generic function for "open" in "oligoClasses"
** help
*** installing help indices
** building package indices ...
** testing if installed package can be loaded
================================================================================
Welcome to oligoClasses version 1.13.9
================================================================================
Large dataset support for 'oligo/crlmm': Disabled
     - Load 'ff'
================================================================================
Parallel computing support for 'oligo/crlmm': Disabled
     - Load 'ff'
     - Load 'snow'
     - Use options(cluster=makeCluster(...))
================================================================================
* MD5 sums
packaged installation of 'oligoClasses' as oligoClasses_1.13.9.zip
* DONE (oligoClasses)