| mBPCR 1.5.3 P.M.V. Rancoita
 
 | Snapshot Date: 2011-02-24 11:26:35 -0800 (Thu, 24 Feb 2011) |  | URL: https://hedgehog.fhcrc.org/bioconductor/trunk/madman/Rpacks/mBPCR |  | Last Changed Rev: 51712 / Revision: 53255 |  | Last Changed Date: 2010-12-29 10:50:50 -0800 (Wed, 29 Dec 2010) | 
 | lamb2 | Linux (openSUSE 11.2) / x86_64 | OK | OK |  | 
| liverpool | Windows Server 2003 R2 (32-bit) / x64 | OK | OK | OK | 
| gewurz | Windows Server 2008 R2 Enterprise (64-bit) / x64 | OK | OK | [ OK ] | 
| pelham | Mac OS X Leopard (10.5.8) / i386 | OK | OK | OK | 
| petty | Mac OS X Snow Leopard (10.6.4) / i386 | OK | OK | OK | 
* installing *source* package 'mBPCR' ...
** R
** data
**  moving datasets to lazyload DB
** inst
** preparing package for lazy loading
Loading required package: Biobase
Welcome to Bioconductor
  Vignettes contain introductory material. To view, type
  'browseVignettes()'. To cite Bioconductor, see
  'citation("Biobase")' and for packages 'citation(pkgname)'.
================================================================================
Welcome to oligoClasses version 1.13.9
================================================================================
Large dataset support for 'oligo/crlmm': Disabled
     - Load 'ff'
================================================================================
Parallel computing support for 'oligo/crlmm': Disabled
     - Load 'ff'
     - Load 'snow'
     - Use options(cluster=makeCluster(...))
================================================================================
Welcome to SNPchip version 1.15.0
** help
*** installing help indices
** building package indices ...
** testing if installed package can be loaded
* MD5 sums
packaged installation of 'mBPCR' as mBPCR_1.5.3.zip
* DONE (mBPCR)