| hexbin 1.25.1 Nicholas Lewin-Koh
 
 | Snapshot Date: 2011-02-24 11:26:35 -0800 (Thu, 24 Feb 2011) |  | URL: https://hedgehog.fhcrc.org/bioconductor/trunk/madman/Rpacks/hexbin |  | Last Changed Rev: 51561 / Revision: 53255 |  | Last Changed Date: 2010-12-15 15:12:44 -0800 (Wed, 15 Dec 2010) | 
 | lamb2 | Linux (openSUSE 11.2) / x86_64 | OK | OK |  | 
| liverpool | Windows Server 2003 R2 (32-bit) / x64 | OK | OK | [ OK ] | 
| gewurz | Windows Server 2008 R2 Enterprise (64-bit) / x64 | OK | OK | OK | 
| pelham | Mac OS X Leopard (10.5.8) / i386 | OK | OK | OK | 
| petty | Mac OS X Snow Leopard (10.6.4) / i386 | OK | OK | OK | 
* installing *source* package 'hexbin' ...
  Using auto-selected zip option '--use-zip-data'
** libs
gfortran     -O3  -c hbin.f -o hbin.o
gfortran     -O3  -c hcell.f -o hcell.o
gfortran     -O3  -c herode.f -o herode.o
gfortran     -O3  -c hsm.f -o hsm.o
gcc -shared -s -static-libgcc -o hexbin.dll tmp.def hbin.o hcell.o herode.o hsm.o -lgfortran -LE:/biocbld/bbs-2.8-bioc/R/bin/i386 -lR
installing to E:/biocbld/bbs-2.8-bioc/meat/hexbin.buildbin-libdir/hexbin/libs/i386
** R
** data
** inst
** preparing package for lazy loading
Creating a new generic function for "plot" in "hexbin"
Creating a new generic function for "summary" in "hexbin"
** help
*** installing help indices
** building package indices ...
** testing if installed package can be loaded
* MD5 sums
packaged installation of 'hexbin' as hexbin_1.25.1.zip
* DONE (hexbin)