flowQ 1.11.0 F. Hahne
 | Snapshot Date: 2011-02-24 11:26:35 -0800 (Thu, 24 Feb 2011) |  | URL: https://hedgehog.fhcrc.org/bioconductor/trunk/madman/Rpacks/flowQ |  | Last Changed Rev: 52939 / Revision: 53255 |  | Last Changed Date: 2011-02-17 04:30:01 -0800 (Thu, 17 Feb 2011) |  
  | lamb2  | Linux (openSUSE 11.2) / x86_64  |  OK  |  WARNINGS  |  | 
| liverpool  | Windows Server 2003 R2 (32-bit) / x64  |  OK  |  WARNINGS  | [ OK ] | 
| gewurz  | Windows Server 2008 R2 Enterprise (64-bit) / x64  |  OK  |  OK  |  OK  | 
| pelham  | Mac OS X Leopard (10.5.8) / i386  |  OK  |  OK  |  OK  | 
| petty  | Mac OS X Snow Leopard (10.6.4) / i386  |  OK  |  OK  |  OK  | 
* installing *source* package 'flowQ' ...
  Using auto-selected zip option '--use-zip-data'
** R
** data
** inst
** preparing package for lazy loading
Loading required package: flowCore
Loading required package: Biobase
Welcome to Bioconductor
  Vignettes contain introductory material. To view, type
  'browseVignettes()'. To cite Bioconductor, see
  'citation("Biobase")' and for packages 'citation(pkgname)'.
Loading required package: rrcov
Loading required package: robustbase
Loading required package: pcaPP
Loading required package: mvtnorm
Scalable Robust Estimators with High Breakdown Point (version 1.1-00)
Attaching package: 'flowCore'
The following object(s) are masked from 'package:stats':
    alias, filter
KernSmooth 2.23 loaded
Copyright M. P. Wand 1997-2009
Loading required package: KernSmooth
Loading required package: tools
Attaching package: 'latticeExtra'
The following object(s) are masked from 'package:flowViz':
    ecdfplot
** help
*** installing help indices
** building package indices ...
** testing if installed package can be loaded
Warning: running command 'C:\WINDOWS\system32\cmd.exe /c convert -list configure' had status 1
Using ImageMagic library at C:/Program Files/ImageMagick-6.4.4-Q16
(version 6.4.4)
* MD5 sums
packaged installation of 'flowQ' as flowQ_1.11.0.zip
* DONE (flowQ)