| Back to the "Multiple platform build/check report" | A B C D [E] F G H I J K L M N O P Q R S T U V W X Y Z |
| Package 126/436 | Hostname | OS / Arch | BUILD | CHECK | BUILD BIN | ||||
| externalVector 1.17.0 Biocore Team c/o BioC user list
| lamb2 | Linux (openSUSE 11.2) / x86_64 | OK | OK | |||||
| liverpool | Windows Server 2003 R2 (32-bit) / x64 | OK | OK | OK | |||||
| gewurz | Windows Server 2008 R2 Enterprise (64-bit) / x64 | [ OK ] | OK | OK | |||||
| pelham | Mac OS X Leopard (10.5.8) / i386 | OK | OK | OK | |||||
| petty | Mac OS X Snow Leopard (10.6.4) / i386 | OK | OK | OK |
| Package: externalVector |
| Version: 1.17.0 |
| Command: chmod a+r externalVector -R && D:\biocbld\bbs-2.8-bioc\R\bin\R.exe CMD build externalVector |
| StartedAt: 2011-02-24 14:17:53 -0800 (Thu, 24 Feb 2011) |
| EndedAt: 2011-02-24 14:18:06 -0800 (Thu, 24 Feb 2011) |
| EllapsedTime: 13.0 seconds |
| RetCode: 0 |
| Status: OK |
| PackageFile: externalVector_1.17.0.tar.gz |
| PackageFileSize: 82.1 KiB |
* checking for file 'externalVector/DESCRIPTION' ... OK * preparing 'externalVector': * checking DESCRIPTION meta-information ... OK * cleaning src * checking for LF line-endings in source and make files * checking for empty or unneeded directories * building 'externalVector_1.17.0.tar.gz'