cellHTS 1.21.0 Ligia Bras
 | Snapshot Date: 2011-02-24 11:26:35 -0800 (Thu, 24 Feb 2011) |  | URL: https://hedgehog.fhcrc.org/bioconductor/trunk/madman/Rpacks/cellHTS |  | Last Changed Rev: 52660 / Revision: 53255 |  | Last Changed Date: 2011-02-14 09:47:53 -0800 (Mon, 14 Feb 2011) |  
  | lamb2  | Linux (openSUSE 11.2) / x86_64  |  OK  |  OK  |  | 
| liverpool  | Windows Server 2003 R2 (32-bit) / x64  |  OK  |  OK  | [ OK ] | 
| gewurz  | Windows Server 2008 R2 Enterprise (64-bit) / x64  |  OK  |  OK  |  OK  | 
| pelham  | Mac OS X Leopard (10.5.8) / i386  |  OK  |  OK  |  OK  | 
| petty  | Mac OS X Snow Leopard (10.6.4) / i386  |  OK  |  OK  |  OK  | 
* installing *source* package 'cellHTS' ...
  Using auto-selected zip option '--use-zip-data'
** R
** data
** inst
** preparing package for lazy loading
Loading required package: Biobase
Welcome to Bioconductor
  Vignettes contain introductory material. To view, type
  'browseVignettes()'. To cite Bioconductor, see
  'citation("Biobase")' and for packages 'citation(pkgname)'.
Loading required package: RColorBrewer
Loading required package: grid
Loading required package: rrcov
Loading required package: robustbase
Loading required package: pcaPP
Loading required package: mvtnorm
Scalable Robust Estimators with High Breakdown Point (version 1.1-00)
** help
*** installing help indices
** building package indices ...
** testing if installed package can be loaded
* MD5 sums
packaged installation of 'cellHTS' as cellHTS_1.21.0.zip
* DONE (cellHTS)