| baySeq 1.5.1 Thomas J. Hardcastle
 
 | Snapshot Date: 2011-02-24 11:26:35 -0800 (Thu, 24 Feb 2011) |  | URL: https://hedgehog.fhcrc.org/bioconductor/trunk/madman/Rpacks/baySeq |  | Last Changed Rev: 51268 / Revision: 53255 |  | Last Changed Date: 2010-12-06 10:25:32 -0800 (Mon, 06 Dec 2010) | 
 | lamb2 | Linux (openSUSE 11.2) / x86_64 | OK | OK |  | 
| liverpool | Windows Server 2003 R2 (32-bit) / x64 | OK | OK | OK | 
| gewurz | Windows Server 2008 R2 Enterprise (64-bit) / x64 | OK | OK | [ OK ] | 
| pelham | Mac OS X Leopard (10.5.8) / i386 | OK | OK | OK | 
| petty | Mac OS X Snow Leopard (10.6.4) / i386 | OK | OK | OK | 
* installing *source* package 'baySeq' ...
** R
** data
** inst
** preparing package for lazy loading
Creating a generic for 'rbind' in package 'baySeq'
    (the supplied definition differs from and overrides the implicit generic
    in package 'base': Signatures differ:  (...), (deparse.level))
** help
*** installing help indices
** building package indices ...
** testing if installed package can be loaded
* MD5 sums
packaged installation of 'baySeq' as baySeq_1.5.1.zip
* DONE (baySeq)