| MassArray 1.3.1 Reid F. Thompson
 
 | Snapshot Date: 2011-02-24 11:26:35 -0800 (Thu, 24 Feb 2011) |  | URL: https://hedgehog.fhcrc.org/bioconductor/trunk/madman/Rpacks/MassArray |  | Last Changed Rev: 51089 / Revision: 53255 |  | Last Changed Date: 2010-11-28 16:18:04 -0800 (Sun, 28 Nov 2010) | 
 | lamb2 | Linux (openSUSE 11.2) / x86_64 | OK | OK |  | 
| liverpool | Windows Server 2003 R2 (32-bit) / x64 | OK | OK | [ OK ] | 
| gewurz | Windows Server 2008 R2 Enterprise (64-bit) / x64 | OK | OK | OK | 
| pelham | Mac OS X Leopard (10.5.8) / i386 | OK | OK | OK | 
| petty | Mac OS X Snow Leopard (10.6.4) / i386 | OK | OK | OK | 
* installing *source* package 'MassArray' ...
** R
** data
**  moving datasets to lazyload DB
** inst
** preparing package for lazy loading
** help
*** installing help indices
** building package indices ...
** testing if installed package can be loaded
* MD5 sums
packaged installation of 'MassArray' as MassArray_1.3.1.zip
* DONE (MassArray)