| Genominator 1.5.1 James Bullard
 
 | Snapshot Date: 2011-02-24 11:26:35 -0800 (Thu, 24 Feb 2011) |  | URL: https://hedgehog.fhcrc.org/bioconductor/trunk/madman/Rpacks/Genominator |  | Last Changed Rev: 51309 / Revision: 53255 |  | Last Changed Date: 2010-12-07 09:03:25 -0800 (Tue, 07 Dec 2010) | 
 | lamb2 | Linux (openSUSE 11.2) / x86_64 | OK | OK |  | 
| liverpool | Windows Server 2003 R2 (32-bit) / x64 | OK | OK | OK | 
| gewurz | Windows Server 2008 R2 Enterprise (64-bit) / x64 | [ OK ] | OK | OK | 
| pelham | Mac OS X Leopard (10.5.8) / i386 | OK | OK | OK | 
| petty | Mac OS X Snow Leopard (10.6.4) / i386 | OK | OK | OK | 
* checking for file 'Genominator/DESCRIPTION' ... OK
* preparing 'Genominator':
* checking DESCRIPTION meta-information ... OK
* installing the package to re-build vignettes
* creating vignettes ... OK
* checking for LF line-endings in source and make files
* checking for empty or unneeded directories
* building 'Genominator_1.5.1.tar.gz'