| GeneSelector 2.0.5 Martin Slawski
 
 | Snapshot Date: 2011-02-24 11:26:35 -0800 (Thu, 24 Feb 2011) |  | URL: https://hedgehog.fhcrc.org/bioconductor/trunk/madman/Rpacks/GeneSelector |  | Last Changed Rev: 51743 / Revision: 53255 |  | Last Changed Date: 2011-01-03 00:49:38 -0800 (Mon, 03 Jan 2011) | 
 | lamb2 | Linux (openSUSE 11.2) / x86_64 | OK | ERROR |  | 
| liverpool | Windows Server 2003 R2 (32-bit) / x64 | OK | ERROR | OK | 
| gewurz | Windows Server 2008 R2 Enterprise (64-bit) / x64 | OK | ERROR | OK | 
| pelham | Mac OS X Leopard (10.5.8) / i386 | OK | ERROR | [ OK ] | 
| petty | Mac OS X Snow Leopard (10.6.4) / i386 | OK | ERROR | OK | 
>>>>>>> 
>>>>>>> INSTALLATION WITH 'R CMD INSTALL --preclean --library=GeneSelector.buildbin-libdir GeneSelector_2.0.5.tar.gz'
>>>>>>> 
* installing *source* package ‘GeneSelector’ ...
** libs
*** arch - i386
gcc -arch i386 -std=gnu99 -I/Library/Frameworks/R.framework/Versions/2.13/Resources/include -I/Library/Frameworks/R.framework/Versions/2.13/Resources/include/i386  -I/usr/local/include    -fPIC  -g -O2 -Wall -pedantic -c kendall.c -o kendall.o
kendall.c: In function ‘kendall’:
kendall.c:3: warning: ‘tau’ may be used uninitialized in this function
gcc -arch i386 -std=gnu99 -I/Library/Frameworks/R.framework/Versions/2.13/Resources/include -I/Library/Frameworks/R.framework/Versions/2.13/Resources/include/i386  -I/usr/local/include    -fPIC  -g -O2 -Wall -pedantic -c mcfour.c -o mcfour.o
gcc -arch i386 -std=gnu99 -I/Library/Frameworks/R.framework/Versions/2.13/Resources/include -I/Library/Frameworks/R.framework/Versions/2.13/Resources/include/i386  -I/usr/local/include    -fPIC  -g -O2 -Wall -pedantic -c mct.c -o mct.o
gcc -arch i386 -std=gnu99 -dynamiclib -Wl,-headerpad_max_install_names -undefined dynamic_lookup -single_module -multiply_defined suppress -L/usr/local/lib -o GeneSelector.so kendall.o mcfour.o mct.o -F/Library/Frameworks/R.framework/.. -framework R -Wl,-framework -Wl,CoreFoundation
installing to /Users/biocbuild/bbs-2.8-bioc/meat/GeneSelector.buildbin-libdir/GeneSelector/libs/i386
*** arch - ppc
gcc -arch ppc -std=gnu99 -I/Library/Frameworks/R.framework/Versions/2.13/Resources/include -I/Library/Frameworks/R.framework/Versions/2.13/Resources/include/ppc  -I/usr/local/include    -fPIC  -g -O2 -Wall -pedantic -c kendall.c -o kendall.o
kendall.c: In function ‘kendall’:
kendall.c:3: warning: ‘tau’ may be used uninitialized in this function
gcc -arch ppc -std=gnu99 -I/Library/Frameworks/R.framework/Versions/2.13/Resources/include -I/Library/Frameworks/R.framework/Versions/2.13/Resources/include/ppc  -I/usr/local/include    -fPIC  -g -O2 -Wall -pedantic -c mcfour.c -o mcfour.o
gcc -arch ppc -std=gnu99 -I/Library/Frameworks/R.framework/Versions/2.13/Resources/include -I/Library/Frameworks/R.framework/Versions/2.13/Resources/include/ppc  -I/usr/local/include    -fPIC  -g -O2 -Wall -pedantic -c mct.c -o mct.o
gcc -arch ppc -std=gnu99 -dynamiclib -Wl,-headerpad_max_install_names -undefined dynamic_lookup -single_module -multiply_defined suppress -L/usr/local/lib -o GeneSelector.so kendall.o mcfour.o mct.o -F/Library/Frameworks/R.framework/.. -framework R -Wl,-framework -Wl,CoreFoundation
installing to /Users/biocbuild/bbs-2.8-bioc/meat/GeneSelector.buildbin-libdir/GeneSelector/libs/ppc
*** arch - x86_64
gcc -arch x86_64 -std=gnu99 -I/Library/Frameworks/R.framework/Versions/2.13/Resources/include -I/Library/Frameworks/R.framework/Versions/2.13/Resources/include/x86_64  -I/usr/local/include    -fPIC  -g -O2 -Wall -pedantic -c kendall.c -o kendall.o
kendall.c: In function ‘kendall’:
kendall.c:3: warning: ‘tau’ may be used uninitialized in this function
gcc -arch x86_64 -std=gnu99 -I/Library/Frameworks/R.framework/Versions/2.13/Resources/include -I/Library/Frameworks/R.framework/Versions/2.13/Resources/include/x86_64  -I/usr/local/include    -fPIC  -g -O2 -Wall -pedantic -c mcfour.c -o mcfour.o
gcc -arch x86_64 -std=gnu99 -I/Library/Frameworks/R.framework/Versions/2.13/Resources/include -I/Library/Frameworks/R.framework/Versions/2.13/Resources/include/x86_64  -I/usr/local/include    -fPIC  -g -O2 -Wall -pedantic -c mct.c -o mct.o
gcc -arch x86_64 -std=gnu99 -dynamiclib -Wl,-headerpad_max_install_names -undefined dynamic_lookup -single_module -multiply_defined suppress -L/usr/local/lib -o GeneSelector.so kendall.o mcfour.o mct.o -F/Library/Frameworks/R.framework/.. -framework R -Wl,-framework -Wl,CoreFoundation
installing to /Users/biocbuild/bbs-2.8-bioc/meat/GeneSelector.buildbin-libdir/GeneSelector/libs/x86_64
** R
** data
** inst
** preparing package for lazy loading
Welcome to Bioconductor
  Vignettes contain introductory material. To view, type
  'browseVignettes()'. To cite Bioconductor, see
  'citation("Biobase")' and for packages 'citation(pkgname)'.
** help
*** installing help indices
** building package indices ...
** testing if installed package can be loaded
* DONE (GeneSelector)
>>>>>>> 
>>>>>>> FIXING LINKS FOR GeneSelector.buildbin-libdir/GeneSelector/libs/i386/GeneSelector.so
>>>>>>> 
install_name_tool -change "/usr/local/lib/libgcc_s.1.dylib" "/Library/Frameworks/R.framework/Versions/2.13/Resources/lib/libgcc_s.1.dylib" "GeneSelector.buildbin-libdir/GeneSelector/libs/i386/GeneSelector.so"
install_name_tool -change "/usr/local/lib/libgfortran.2.dylib" "/Library/Frameworks/R.framework/Versions/2.13/Resources/lib/libgfortran.2.dylib" "GeneSelector.buildbin-libdir/GeneSelector/libs/i386/GeneSelector.so"
install_name_tool -change "/usr/local/lib/libreadline.5.2.dylib" "/Library/Frameworks/R.framework/Versions/2.13/Resources/lib/libreadline.5.2.dylib" "GeneSelector.buildbin-libdir/GeneSelector/libs/i386/GeneSelector.so"
install_name_tool -change "/usr/local/lib/libreadline.dylib" "/Library/Frameworks/R.framework/Versions/2.13/Resources/lib/libreadline.dylib" "GeneSelector.buildbin-libdir/GeneSelector/libs/i386/GeneSelector.so"
>>>>>>> 
>>>>>>> FIXING LINKS FOR GeneSelector.buildbin-libdir/GeneSelector/libs/ppc/GeneSelector.so
>>>>>>> 
install_name_tool -change "/usr/local/lib/libgcc_s.1.dylib" "/Library/Frameworks/R.framework/Versions/2.13/Resources/lib/libgcc_s.1.dylib" "GeneSelector.buildbin-libdir/GeneSelector/libs/ppc/GeneSelector.so"
install_name_tool -change "/usr/local/lib/libgfortran.2.dylib" "/Library/Frameworks/R.framework/Versions/2.13/Resources/lib/libgfortran.2.dylib" "GeneSelector.buildbin-libdir/GeneSelector/libs/ppc/GeneSelector.so"
install_name_tool -change "/usr/local/lib/libreadline.5.2.dylib" "/Library/Frameworks/R.framework/Versions/2.13/Resources/lib/libreadline.5.2.dylib" "GeneSelector.buildbin-libdir/GeneSelector/libs/ppc/GeneSelector.so"
install_name_tool -change "/usr/local/lib/libreadline.dylib" "/Library/Frameworks/R.framework/Versions/2.13/Resources/lib/libreadline.dylib" "GeneSelector.buildbin-libdir/GeneSelector/libs/ppc/GeneSelector.so"
>>>>>>> 
>>>>>>> FIXING LINKS FOR GeneSelector.buildbin-libdir/GeneSelector/libs/x86_64/GeneSelector.so
>>>>>>> 
install_name_tool -change "/usr/local/lib/libgcc_s.1.dylib" "/Library/Frameworks/R.framework/Versions/2.13/Resources/lib/libgcc_s.1.dylib" "GeneSelector.buildbin-libdir/GeneSelector/libs/x86_64/GeneSelector.so"
install_name_tool -change "/usr/local/lib/libgfortran.2.dylib" "/Library/Frameworks/R.framework/Versions/2.13/Resources/lib/libgfortran.2.dylib" "GeneSelector.buildbin-libdir/GeneSelector/libs/x86_64/GeneSelector.so"
install_name_tool -change "/usr/local/lib/libreadline.5.2.dylib" "/Library/Frameworks/R.framework/Versions/2.13/Resources/lib/libreadline.5.2.dylib" "GeneSelector.buildbin-libdir/GeneSelector/libs/x86_64/GeneSelector.so"
install_name_tool -change "/usr/local/lib/libreadline.dylib" "/Library/Frameworks/R.framework/Versions/2.13/Resources/lib/libreadline.dylib" "GeneSelector.buildbin-libdir/GeneSelector/libs/x86_64/GeneSelector.so"