| GeneAnswers 1.7.0 Gang Feng  and Pan Du
 
 | Snapshot Date: 2011-02-24 11:26:35 -0800 (Thu, 24 Feb 2011) |  | URL: https://hedgehog.fhcrc.org/bioconductor/trunk/madman/Rpacks/GeneAnswers |  | Last Changed Rev: 50295 / Revision: 53255 |  | Last Changed Date: 2010-10-17 22:57:44 -0700 (Sun, 17 Oct 2010) | 
 | lamb2 | Linux (openSUSE 11.2) / x86_64 | OK | WARNINGS |  | 
| liverpool | Windows Server 2003 R2 (32-bit) / x64 | OK | WARNINGS | OK | 
| gewurz | Windows Server 2008 R2 Enterprise (64-bit) / x64 | OK | WARNINGS | [ OK ] | 
| pelham | Mac OS X Leopard (10.5.8) / i386 | OK | WARNINGS | OK | 
| petty | Mac OS X Snow Leopard (10.6.4) / i386 | OK | WARNINGS | OK | 
* installing *source* package 'GeneAnswers' ...
  Using auto-selected zip option '--use-zip-data'
** R
** data
** inst
** preparing package for lazy loading
Loading required package: bitops
Loading required package: AnnotationDbi
Loading required package: Biobase
Welcome to Bioconductor
  Vignettes contain introductory material. To view, type
  'browseVignettes()'. To cite Bioconductor, see
  'citation("Biobase")' and for packages 'citation(pkgname)'.
Loading required package: DBI
Warning in fun(...) :
  Rgraphviz built with Graphviz version 2.20.3.
Found installed Graphviz version 2.25.20090912.445. This _may_ cause problems.
** help
*** installing help indices
** building package indices ...
** testing if installed package can be loaded
* MD5 sums
packaged installation of 'GeneAnswers' as GeneAnswers_1.7.0.zip
* DONE (GeneAnswers)