GSEAlm 1.11.0 Assaf Oron
| Snapshot Date: 2011-02-24 11:26:35 -0800 (Thu, 24 Feb 2011) | | URL: https://hedgehog.fhcrc.org/bioconductor/trunk/madman/Rpacks/GSEAlm | | Last Changed Rev: 50295 / Revision: 53255 | | Last Changed Date: 2010-10-17 22:57:44 -0700 (Sun, 17 Oct 2010) |
| lamb2 | Linux (openSUSE 11.2) / x86_64 | OK | OK | |
| liverpool | Windows Server 2003 R2 (32-bit) / x64 | OK | OK | OK |
| gewurz | Windows Server 2008 R2 Enterprise (64-bit) / x64 | OK | OK | OK |
| pelham | Mac OS X Leopard (10.5.8) / i386 | OK | OK | [ OK ] |
| petty | Mac OS X Snow Leopard (10.6.4) / i386 | OK | OK | OK |
>>>>>>>
>>>>>>> INSTALLATION WITH 'R CMD INSTALL --preclean --library=GSEAlm.buildbin-libdir GSEAlm_1.11.0.tar.gz'
>>>>>>>
* installing *source* package ‘GSEAlm’ ...
** R
** inst
** preparing package for lazy loading
Welcome to Bioconductor
Vignettes contain introductory material. To view, type
'browseVignettes()'. To cite Bioconductor, see
'citation("Biobase")' and for packages 'citation(pkgname)'.
** help
*** installing help indices
** building package indices ...
** testing if installed package can be loaded
* DONE (GSEAlm)