| GEOquery 2.17.4 Sean Davis
 
 | Snapshot Date: 2011-02-24 11:26:35 -0800 (Thu, 24 Feb 2011) |  | URL: https://hedgehog.fhcrc.org/bioconductor/trunk/madman/Rpacks/GEOquery |  | Last Changed Rev: 52639 / Revision: 53255 |  | Last Changed Date: 2011-02-13 15:36:21 -0800 (Sun, 13 Feb 2011) | 
 | lamb2 | Linux (openSUSE 11.2) / x86_64 | ERROR | skipped |  | 
| liverpool | Windows Server 2003 R2 (32-bit) / x64 | [ OK ] | OK | OK | 
| gewurz | Windows Server 2008 R2 Enterprise (64-bit) / x64 | ERROR | skipped | skipped | 
| pelham | Mac OS X Leopard (10.5.8) / i386 | ERROR | skipped | skipped | 
| petty | Mac OS X Snow Leopard (10.6.4) / i386 | ERROR | skipped | skipped | 
* checking for file 'GEOquery/DESCRIPTION' ... OK
* preparing 'GEOquery':
* checking DESCRIPTION meta-information ... OK
* installing the package to re-build vignettes
* creating vignettes ... OK
* checking for LF line-endings in source and make files
* checking for empty or unneeded directories
WARNING: directory 'GEOquery/inst/Rnw' is empty
* building 'GEOquery_2.17.4.tar.gz'