| Back to the "Multiple platform build/check report" | A B [C] D E F G H I J K L M N O P Q R S T U V W X Y Z | 
| Package 96/436 | Hostname | OS / Arch | BUILD | CHECK | BUILD BIN | ||||
| CORREP 1.17.0 Dongxiao Zhu 
 | lamb2 | Linux (openSUSE 11.2) / x86_64 | OK | OK | |||||
| liverpool | Windows Server 2003 R2 (32-bit) / x64 | OK | OK | [ OK ] | |||||
| gewurz | Windows Server 2008 R2 Enterprise (64-bit) / x64 | OK | OK | OK | |||||
| pelham | Mac OS X Leopard (10.5.8) / i386 | OK | OK | OK | |||||
| petty | Mac OS X Snow Leopard (10.6.4) / i386 | OK | OK | OK | 
| Package: CORREP | 
| Version: 1.17.0 | 
| Command: E:\biocbld\bbs-2.8-bioc\R\bin\R.exe CMD INSTALL --build --library=CORREP.buildbin-libdir CORREP_1.17.0.tar.gz | 
| StartedAt: 2011-02-24 20:25:50 -0800 (Thu, 24 Feb 2011) | 
| EndedAt: 2011-02-24 20:25:59 -0800 (Thu, 24 Feb 2011) | 
| EllapsedTime: 8.9 seconds | 
| RetCode: 0 | 
| Status: OK | 
| PackageFile: CORREP_1.17.0.zip | 
| PackageFileSize: 304.4 KiB | 
* installing *source* package 'CORREP' ... ** R ** data ** inst ** preparing package for lazy loading ** help *** installing help indices ** building package indices ... ** testing if installed package can be loaded * MD5 sums packaged installation of 'CORREP' as CORREP_1.17.0.zip * DONE (CORREP)