| Back to the "Multiple platform build/check report" | A [B] C D E F G H I J K L M N O P Q R S T U V W X Y Z | 
| Package 50/436 | Hostname | OS / Arch | BUILD | CHECK | BUILD BIN | ||||
| BiocCaseStudies 1.13.0 Biocore Team c/o BioC user list 
 | lamb2 | Linux (openSUSE 11.2) / x86_64 | OK | OK | |||||
| liverpool | Windows Server 2003 R2 (32-bit) / x64 | [ OK ] | OK | OK | |||||
| gewurz | Windows Server 2008 R2 Enterprise (64-bit) / x64 | OK | OK | OK | |||||
| pelham | Mac OS X Leopard (10.5.8) / i386 | OK | OK | OK | |||||
| petty | Mac OS X Snow Leopard (10.6.4) / i386 | OK | OK | OK | 
| Package: BiocCaseStudies | 
| Version: 1.13.0 | 
| Command: chmod a+r BiocCaseStudies -R && E:\biocbld\bbs-2.8-bioc\R\bin\R.exe CMD build BiocCaseStudies | 
| StartedAt: 2011-02-24 15:05:01 -0800 (Thu, 24 Feb 2011) | 
| EndedAt: 2011-02-24 15:05:02 -0800 (Thu, 24 Feb 2011) | 
| EllapsedTime: 1.8 seconds | 
| RetCode: 0 | 
| Status: OK | 
| PackageFile: BiocCaseStudies_1.13.0.tar.gz | 
| PackageFileSize: 6.769 KiB | 
* checking for file 'BiocCaseStudies/DESCRIPTION' ... OK * preparing 'BiocCaseStudies': * checking DESCRIPTION meta-information ... OK * checking for LF line-endings in source and make files * checking for empty or unneeded directories * building 'BiocCaseStudies_1.13.0.tar.gz'