BGmix 1.11.1 Alex Lewin
Snapshot Date: 2011-02-24 11:26:35 -0800 (Thu, 24 Feb 2011) | URL: https://hedgehog.fhcrc.org/bioconductor/trunk/madman/Rpacks/BGmix | Last Changed Rev: 52466 / Revision: 53255 | Last Changed Date: 2011-02-04 15:23:24 -0800 (Fri, 04 Feb 2011) |
| lamb2 | Linux (openSUSE 11.2) / x86_64 | OK | OK | |
liverpool | Windows Server 2003 R2 (32-bit) / x64 | OK | OK | [ OK ] |
gewurz | Windows Server 2008 R2 Enterprise (64-bit) / x64 | N O T S U P P O R T E D |
pelham | Mac OS X Leopard (10.5.8) / i386 | OK | OK | OK |
petty | Mac OS X Snow Leopard (10.6.4) / i386 | OK | OK | OK |
* installing *source* package 'BGmix' ...
** libs
Warning: this package has a non-empty 'configure.win' file,
so building only the main architecture
g++ -I"E:/biocbld/bbs-2.8-bioc/R/include" -I ../boostIncl -DUSING_R -O2 -Wall -c BGmix_main.cpp -o BGmix_main.o
BGmix_main.cpp: In function 'void BGmix(int&, int&, int&, int&, int&, int&, int&, int&, int&, int&, int&, int&, int&, int&, int&, int&, int&, int&, int&, int&, int&, double&, double&, double&, double&, double&, double&, double&, double&, double&, double&, double&, double&, double&, double&, double&, double&, double&, double&, double&, double&, double&, double*, double*, double*, int*, int&, double*, int*, char**, char**, char**, char**, char**)':
BGmix_main.cpp:165:31: warning: suggest parentheses around comparison in operand of '&'
BGmix_main.cpp:178:27: warning: suggest parentheses around comparison in operand of '&'
BGmix_main.cpp:179:47: warning: suggest parentheses around comparison in operand of '&'
BGmix_main.cpp:546:48: warning: suggest parentheses around comparison in operand of '|'
BGmix_main.cpp:621:48: warning: suggest parentheses around comparison in operand of '|'
g++ -I"E:/biocbld/bbs-2.8-bioc/R/include" -I ../boostIncl -DUSING_R -O2 -Wall -c rundir.cpp -o rundir.o
g++ -I"E:/biocbld/bbs-2.8-bioc/R/include" -I ../boostIncl -DUSING_R -O2 -Wall -c updates_BGmix.cpp -o updates_BGmix.o
updates_BGmix.cpp: In function 'void update_z_beta1_joint2(int*, double**, int*, int&, int&, double*, double&, double&, double**, double**, double**, int*, double**, double**, int&, int&, int&, int*, int&, int&, int&, Random&)':
updates_BGmix.cpp:192:29: warning: suggest parentheses around comparison in operand of '|'
updates_BGmix.cpp:200:28: warning: suggest parentheses around comparison in operand of '|'
updates_BGmix.cpp: In function 'void predict(double**, double**, double**, double**, double**, double**, double**, double**, double**, double**, double**, double**, double**, double*, double**, double*, double**, double**, double**, double**, double*, double*, int*, double**, double**, int*, double*, double&, double&, double&, double&, double&, int&, int&, int&, int&, int&, int*, int&, Random&)':
updates_BGmix.cpp:870:41: warning: suggest parentheses around comparison in operand of '|'
updates_BGmix.cpp:883:46: warning: suggest parentheses around comparison in operand of '|'
updates_BGmix.cpp:883:67: warning: suggest parentheses around comparison in operand of '|'
updates_BGmix.cpp:893:43: warning: suggest parentheses around comparison in operand of '|'
updates_BGmix.cpp: In function 'void predict_t(double**, double**, double**, double**, double**, double**, double**, double**, double**, double**, double**, double**, double**, double**, double**, double**, double*, double*, double*, int*, double**, double**, int*, double*, double&, double&, double&, double&, double&, int&, int&, int&, int&, int&, int*, int&, Random&)':
updates_BGmix.cpp:992:41: warning: suggest parentheses around comparison in operand of '|'
updates_BGmix.cpp:1005:46: warning: suggest parentheses around comparison in operand of '|'
updates_BGmix.cpp:1005:67: warning: suggest parentheses around comparison in operand of '|'
updates_BGmix.cpp:1015:43: warning: suggest parentheses around comparison in operand of '|'
g++ -shared -s -static-libgcc -o BGmix.dll tmp.def BGmix_main.o rundir.o updates_BGmix.o -LE:/biocbld/bbs-2.8-bioc/R/bin/i386 -lR
installing to E:/biocbld/bbs-2.8-bioc/meat/BGmix.buildbin-libdir/BGmix/libs/i386
** R
** data
** inst
** preparing package for lazy loading
KernSmooth 2.23 loaded
Copyright M. P. Wand 1997-2009
** help
*** installing help indices
** building package indices ...
** testing if installed package can be loaded
* MD5 sums
packaged installation of 'BGmix' as BGmix_1.11.1.zip
* DONE (BGmix)