ACME 2.7.0 Sean Davis
 | Snapshot Date: 2011-02-24 11:26:35 -0800 (Thu, 24 Feb 2011) |  | URL: https://hedgehog.fhcrc.org/bioconductor/trunk/madman/Rpacks/ACME |  | Last Changed Rev: 50295 / Revision: 53255 |  | Last Changed Date: 2010-10-17 22:57:44 -0700 (Sun, 17 Oct 2010) |  
  | lamb2  | Linux (openSUSE 11.2) / x86_64  |  OK  |  OK  |  | 
| liverpool  | Windows Server 2003 R2 (32-bit) / x64  |  OK  |  OK  |  OK  | 
| gewurz  | Windows Server 2008 R2 Enterprise (64-bit) / x64  |  OK  |  OK  | [ OK ] | 
| pelham  | Mac OS X Leopard (10.5.8) / i386  |  OK  |  OK  |  OK  | 
| petty  | Mac OS X Snow Leopard (10.6.4) / i386  |  OK  |  OK  |  OK  | 
* installing *source* package 'ACME' ...
  Using auto-selected zip option '--use-zip-data'
** libs
x86_64-w64-mingw32-gcc -I"D:/biocbld/bbs-2.8-bioc/R/include"          -O2 -Wall  -std=gnu99 -c windowChisq.c -o windowChisq.o
windowChisq.c: In function 'windowChisq':
windowChisq.c:58:4: warning: suggest parentheses around comparison in operand of '&'
windowChisq.c:63:4: warning: suggest parentheses around comparison in operand of '&'
windowChisq.c:21:11: warning: unused variable 'xa'
windowChisq.c: At top level:
windowChisq.c:86:5: warning: initialization from incompatible pointer type
x86_64-w64-mingw32-gcc -shared -s -static-libgcc -o ACME.dll tmp.def windowChisq.o -LD:/biocbld/bbs-2.8-bioc/R/bin/x64 -lR
installing to D:/biocbld/bbs-2.8-bioc/meat/ACME.buildbin-libdir/ACME/libs/x64
** R
** data
** inst
** preparing package for lazy loading
Welcome to Bioconductor
  Vignettes contain introductory material. To view, type
  'browseVignettes()'. To cite Bioconductor, see
  'citation("Biobase")' and for packages 'citation(pkgname)'.
Creating a new generic function for "print" in "ACME"
** help
*** installing help indices
** building package indices ...
** testing if installed package can be loaded
* MD5 sums
packaged installation of 'ACME' as ACME_2.7.0.zip
* DONE (ACME)