| Back to the "Multiple platform build/check report" |
| Package 62/82 | Hostname | OS / Arch | BUILD | CHECK | BUILD BIN | ||||
| mouse4302barcodevecs 1.0.1 Matthew N. McCall
| lamb2 | Linux (openSUSE 11.2) / x86_64 | OK | OK | |||||
| gewurz | Windows Server 2008 R2 Enterprise (64-bit) / x64 | OK | OK | OK | |||||
| pelham | Mac OS X Leopard (10.5.8) / i386 | [ OK ] | OK | OK |
| Package: mouse4302barcodevecs |
| Version: 1.0.1 |
| Command: /Library/Frameworks/R.framework/Versions/2.12/Resources/bin/R CMD build mouse4302barcodevecs |
| StartedAt: 2011-02-27 14:19:23 -0800 (Sun, 27 Feb 2011) |
| EndedAt: 2011-02-27 14:19:24 -0800 (Sun, 27 Feb 2011) |
| EllapsedTime: 0.8 seconds |
| RetCode: 0 |
| Status: OK |
| PackageFile: mouse4302barcodevecs_1.0.1.tar.gz |
| PackageFileSize: 1021 KiB |
* checking for file ‘mouse4302barcodevecs/DESCRIPTION’ ... OK * preparing ‘mouse4302barcodevecs’: * checking DESCRIPTION meta-information ... OK * checking for LF line-endings in source and make files * checking for empty or unneeded directories * building ‘mouse4302barcodevecs_1.0.1.tar.gz’