| Back to the "Multiple platform build/check report" |
| Package 55/82 | Hostname | OS / Arch | BUILD | CHECK | BUILD BIN | ||||
| lumiBarnes 1.3.5 Pan Du
| lamb2 | Linux (openSUSE 11.2) / x86_64 | OK | OK | |||||
| gewurz | Windows Server 2008 R2 Enterprise (64-bit) / x64 | OK | OK | OK | |||||
| pelham | Mac OS X Leopard (10.5.8) / i386 | [ OK ] | OK | OK |
| Package: lumiBarnes |
| Version: 1.3.5 |
| Command: /Library/Frameworks/R.framework/Versions/2.12/Resources/bin/R CMD build lumiBarnes |
| StartedAt: 2011-02-27 14:04:27 -0800 (Sun, 27 Feb 2011) |
| EndedAt: 2011-02-27 14:04:29 -0800 (Sun, 27 Feb 2011) |
| EllapsedTime: 1.8 seconds |
| RetCode: 0 |
| Status: OK |
| PackageFile: lumiBarnes_1.3.5.tar.gz |
| PackageFileSize: 4.985 MiB |
* checking for file ‘lumiBarnes/DESCRIPTION’ ... OK * preparing ‘lumiBarnes’: * checking DESCRIPTION meta-information ... OK * checking for LF line-endings in source and make files * checking for empty or unneeded directories * building ‘lumiBarnes_1.3.5.tar.gz’