| Back to the "Multiple platform build/check report" |
| Package 43/82 | Hostname | OS / Arch | BUILD | CHECK | BUILD BIN | ||||
| hgu133afrmavecs 1.1.3 Matthew N. McCall
| lamb2 | Linux (openSUSE 11.2) / x86_64 | OK | OK | |||||
| gewurz | Windows Server 2008 R2 Enterprise (64-bit) / x64 | OK | OK | OK | |||||
| pelham | Mac OS X Leopard (10.5.8) / i386 | [ OK ] | OK | OK |
| Package: hgu133afrmavecs |
| Version: 1.1.3 |
| Command: /Library/Frameworks/R.framework/Versions/2.12/Resources/bin/R CMD build hgu133afrmavecs |
| StartedAt: 2011-02-27 14:19:06 -0800 (Sun, 27 Feb 2011) |
| EndedAt: 2011-02-27 14:19:09 -0800 (Sun, 27 Feb 2011) |
| EllapsedTime: 3.8 seconds |
| RetCode: 0 |
| Status: OK |
| PackageFile: hgu133afrmavecs_1.1.3.tar.gz |
| PackageFileSize: 7.935 MiB |
* checking for file ‘hgu133afrmavecs/DESCRIPTION’ ... OK * preparing ‘hgu133afrmavecs’: * checking DESCRIPTION meta-information ... OK * checking for LF line-endings in source and make files * checking for empty or unneeded directories * building ‘hgu133afrmavecs_1.1.3.tar.gz’