| Back to the "Multiple platform build/check report" |
| Package 49/92 | Hostname | OS / Arch | BUILD | CHECK | BUILD BIN | ||||
| hgu133abarcodevecs 1.0.1 Matthew N. McCall
| lamb2 | Linux (openSUSE 11.2) / x86_64 | [ OK ] | OK | |||||
| gewurz | Windows Server 2008 R2 Enterprise (64-bit) / x64 | OK | OK | OK | |||||
| petty | Mac OS X Snow Leopard (10.6.6) / i386 | OK | OK | OK |
| Package: hgu133abarcodevecs |
| Version: 1.0.1 |
| Command: /home/biocbuild/bbs-2.7-bioc/R/bin/R CMD build hgu133abarcodevecs |
| StartedAt: 2011-04-06 14:00:21 -0700 (Wed, 06 Apr 2011) |
| EndedAt: 2011-04-06 14:00:21 -0700 (Wed, 06 Apr 2011) |
| EllapsedTime: 0.5 seconds |
| RetCode: 0 |
| Status: OK |
| PackageFile: hgu133abarcodevecs_1.0.1.tar.gz |
| PackageFileSize: 500.7 KiB |
* checking for file ‘hgu133abarcodevecs/DESCRIPTION’ ... OK * preparing ‘hgu133abarcodevecs’: * checking DESCRIPTION meta-information ... OK * checking for LF line-endings in source and make files * checking for empty or unneeded directories * building ‘hgu133abarcodevecs_1.0.1.tar.gz’