| Back to the "Multiple platform build/check report" |
| Package 30/92 | Hostname | OS / Arch | BUILD | CHECK | BUILD BIN | ||||
| faahKO 1.2.5 Colin A. Smith
| lamb2 | Linux (openSUSE 11.2) / x86_64 | OK | WARNINGS | |||||
| gewurz | Windows Server 2008 R2 Enterprise (64-bit) / x64 | OK | WARNINGS | [ OK ] | |||||
| petty | Mac OS X Snow Leopard (10.6.6) / i386 | OK | WARNINGS | OK |
| Package: faahKO |
| Version: 1.2.5 |
| Command: D:\biocbld\bbs-2.7-bioc\R\bin\R.exe CMD INSTALL --build --library=faahKO.buildbin-libdir faahKO_1.2.5.tar.gz |
| StartedAt: 2011-04-06 17:03:13 -0700 (Wed, 06 Apr 2011) |
| EndedAt: 2011-04-06 17:04:12 -0700 (Wed, 06 Apr 2011) |
| EllapsedTime: 59.6 seconds |
| RetCode: 0 |
| Status: OK |
| PackageFile: faahKO_1.2.5.zip |
| PackageFileSize: 15.81 MiB |
* installing *source* package 'faahKO' ... ** R ** data ** inst ** preparing package for lazy loading ** help *** installing help indices ** building package indices ... ** testing if installed package can be loaded * MD5 sums packaged installation of 'faahKO' as faahKO_1.2.5.zip * DONE (faahKO)