| breastCancerTRANSBIG 0.99.0 Markus Schroeder , Benjamin Haibe-Kains
 
 | Snapshot Date: 2011-04-06 12:27:26 -0700 (Wed, 06 Apr 2011) |  | URL: https://hedgehog.fhcrc.org/bioc-data/trunk/experiment/pkgs/breastCancerTRANSBIG |  | Last Changed Rev: 1501 / Revision: 1510 |  | Last Changed Date: 2011-04-05 22:07:15 -0700 (Tue, 05 Apr 2011) | 
 | lamb2 | Linux (openSUSE 11.2) / x86_64 | OK | OK |  | 
| gewurz | Windows Server 2008 R2 Enterprise (64-bit) / x64 | OK | OK | [ OK ] | 
| petty | Mac OS X Snow Leopard (10.6.6) / i386 | OK | OK | OK | 
* installing *source* package 'breastCancerTRANSBIG' ...
  Using auto-selected zip option '--use-zip-data'
** data
** help
*** installing help indices
** building package indices ...
** testing if installed package can be loaded
* MD5 sums
packaged installation of 'breastCancerTRANSBIG' as breastCancerTRANSBIG_0.99.0.zip
* DONE (breastCancerTRANSBIG)